BEGIN:VCALENDAR
VERSION:2.0
PRODID:-//Pistoia Capitale Italiana del Libro 2026 - ECPv6.15.12.2//NONSGML v1.0//EN
CALSCALE:GREGORIAN
METHOD:PUBLISH
X-WR-CALNAME:Pistoia Capitale Italiana del Libro 2026
X-ORIGINAL-URL:https://pistoiacapitaledellibro2026.it
X-WR-CALDESC:Eventi per Pistoia Capitale Italiana del Libro 2026
REFRESH-INTERVAL;VALUE=DURATION:PT1H
X-Robots-Tag:noindex
X-PUBLISHED-TTL:PT1H
BEGIN:VTIMEZONE
TZID:UTC
BEGIN:STANDARD
TZOFFSETFROM:+0000
TZOFFSETTO:+0000
TZNAME:UTC
DTSTART:20250101T000000
END:STANDARD
END:VTIMEZONE
BEGIN:VTIMEZONE
TZID:Europe/Rome
BEGIN:DAYLIGHT
TZOFFSETFROM:+0100
TZOFFSETTO:+0200
TZNAME:CEST
DTSTART:20250330T010000
END:DAYLIGHT
BEGIN:STANDARD
TZOFFSETFROM:+0200
TZOFFSETTO:+0100
TZNAME:CET
DTSTART:20251026T010000
END:STANDARD
BEGIN:DAYLIGHT
TZOFFSETFROM:+0100
TZOFFSETTO:+0200
TZNAME:CEST
DTSTART:20260329T010000
END:DAYLIGHT
BEGIN:STANDARD
TZOFFSETFROM:+0200
TZOFFSETTO:+0100
TZNAME:CET
DTSTART:20261025T010000
END:STANDARD
BEGIN:DAYLIGHT
TZOFFSETFROM:+0100
TZOFFSETTO:+0200
TZNAME:CEST
DTSTART:20270328T010000
END:DAYLIGHT
BEGIN:STANDARD
TZOFFSETFROM:+0200
TZOFFSETTO:+0100
TZNAME:CET
DTSTART:20271031T010000
END:STANDARD
END:VTIMEZONE
BEGIN:VEVENT
DTSTART;TZID=UTC:20260321T150000
DTEND;TZID=UTC:20260321T183000
DTSTAMP:20260421T211222
CREATED:20260213T101349Z
LAST-MODIFIED:20260216T155235Z
UID:2306-1774105200-1774117800@pistoiacapitaledellibro2026.it
SUMMARY:Bancarella “Di libro in libro” - Pomeriggio
DESCRIPTION:prendi un libro\, lascia un’offerta libera \na cura dell’Associazione Amici della San Giorgio
URL:https://pistoiacapitaledellibro2026.it/event/bancarella-di-libro-in-libro-pomeriggio/
LOCATION:Biblioteca San Giorgio\, Via Sandro Pertini\, 340\, Pistoia\, PT\, 51100\, Italy
CATEGORIES:Letture
ATTACH;FMTTYPE=image/jpeg:https://pistoiacapitaledellibro2026.it/wp-content/uploads/2026/01/bancarella-e1770981556841.jpg
END:VEVENT
BEGIN:VEVENT
DTSTART;TZID=Europe/Rome:20260321T120000
DTEND;TZID=Europe/Rome:20260321T130000
DTSTAMP:20260421T211222
CREATED:20260216T160247Z
LAST-MODIFIED:20260309T132311Z
UID:2633-1774094400-1774098000@pistoiacapitaledellibro2026.it
SUMMARY:Universo Comics
DESCRIPTION:Nell’ambito del festival Climate Fiction Days\, ideato e diretto da Alessandra Repossi\na cura di Francesca Riccioni\, ricercatrice e sceneggiatrice di fumetti scientifici\, Gianluca Costantini\, fumettista attivista\, Michela Maria Artusi\, esperta di semiotica delle narrazioni \naccesso gratuito
URL:https://pistoiacapitaledellibro2026.it/event/universo-comics/
LOCATION:Biblioteca San Giorgio\, Via Sandro Pertini\, 340\, Pistoia\, PT\, 51100\, Italy
CATEGORIES:Incontri
ATTACH;FMTTYPE=image/jpeg:https://pistoiacapitaledellibro2026.it/wp-content/uploads/2026/02/ClimateFictionDays.jpg
END:VEVENT
BEGIN:VEVENT
DTSTART;TZID=Europe/Rome:20260321T113000
DTEND;TZID=Europe/Rome:20260321T130000
DTSTAMP:20260421T211222
CREATED:20260216T160107Z
LAST-MODIFIED:20260309T132240Z
UID:2631-1774092600-1774098000@pistoiacapitaledellibro2026.it
SUMMARY:Insetti\, che passione!
DESCRIPTION:Nell’ambito del festival Climate Fiction Days\, ideato e diretto da Alessandra Repossiù\nLaboratorio per bambini dai 10 anni in su \ncon Gianumberto Accinelli\, entomologo\, scrittore e storyteller \naccesso gratuito solo su prenotazione: corsi.sangiorgio@comune.pistoia.it
URL:https://pistoiacapitaledellibro2026.it/event/insetti-che-passione/
LOCATION:Biblioteca San Giorgio\, Via Sandro Pertini\, 340\, Pistoia\, PT\, 51100\, Italy
CATEGORIES:Incontri
ATTACH;FMTTYPE=image/jpeg:https://pistoiacapitaledellibro2026.it/wp-content/uploads/2026/02/ClimateFictionDays.jpg
END:VEVENT
BEGIN:VEVENT
DTSTART;TZID=Europe/Rome:20260321T110000
DTEND;TZID=Europe/Rome:20260321T120000
DTSTAMP:20260421T211222
CREATED:20260216T155924Z
LAST-MODIFIED:20260309T132205Z
UID:2629-1774090800-1774094400@pistoiacapitaledellibro2026.it
SUMMARY:Pagine d’autore
DESCRIPTION:Nell’ambito del festival Climate Fiction Days\, ideato e diretto da Alessandra Repossi\ncon gli scrittori Bruno Arpaia e Nicoletta Vallorani\, modera Linda Meoni\, giornalista \naccesso gratuito
URL:https://pistoiacapitaledellibro2026.it/event/pagine-dautore/
LOCATION:Biblioteca San Giorgio\, Via Sandro Pertini\, 340\, Pistoia\, PT\, 51100\, Italy
CATEGORIES:Incontri
ATTACH;FMTTYPE=image/jpeg:https://pistoiacapitaledellibro2026.it/wp-content/uploads/2026/02/ClimateFictionDays.jpg
END:VEVENT
BEGIN:VEVENT
DTSTART;TZID=Europe/Rome:20260321T103000
DTEND;TZID=Europe/Rome:20260321T120000
DTSTAMP:20260421T211222
CREATED:20260216T155807Z
LAST-MODIFIED:20260309T132102Z
UID:2627-1774089000-1774094400@pistoiacapitaledellibro2026.it
SUMMARY:Viaggio in Egitto tra geroglifici e coccodrilli
DESCRIPTION:Nell’ambito del festival Climate Fiction Days\, ideato e diretto da Alessandra Repossi\nlaboratorio per bambini di 8-9 anni \ncon Marco Stroppa\, papirologo \naccesso gratuito solo su prenotazione: corsi.sangiorgio@comune.pistoia.it
URL:https://pistoiacapitaledellibro2026.it/event/viaggio-in-egitto-tra-geroglifici-e-coccodrilli/
LOCATION:Biblioteca San Giorgio\, Via Sandro Pertini\, 340\, Pistoia\, PT\, 51100\, Italy
CATEGORIES:Incontri
ATTACH;FMTTYPE=image/jpeg:https://pistoiacapitaledellibro2026.it/wp-content/uploads/2026/02/ClimateFictionDays.jpg
END:VEVENT
BEGIN:VEVENT
DTSTART;TZID=UTC:20260321T100000
DTEND;TZID=UTC:20260321T123000
DTSTAMP:20260421T211222
CREATED:20260216T155154Z
LAST-MODIFIED:20260216T155154Z
UID:2623-1774087200-1774096200@pistoiacapitaledellibro2026.it
SUMMARY:Bancarella “Di libro in libro” - Mattina
DESCRIPTION:prendi un libro\, lascia un’offerta libera \na cura dell’Associazione Amici della San Giorgio
URL:https://pistoiacapitaledellibro2026.it/event/bancarella-di-libro-in-libro-mattina-2/
LOCATION:Biblioteca San Giorgio\, Via Sandro Pertini\, 340\, Pistoia\, PT\, 51100\, Italy
CATEGORIES:Letture
ATTACH;FMTTYPE=image/jpeg:https://pistoiacapitaledellibro2026.it/wp-content/uploads/2026/01/bancarella-e1770981556841.jpg
END:VEVENT
BEGIN:VEVENT
DTSTART;TZID=Europe/Rome:20260321T090000
DTEND;TZID=Europe/Rome:20260321T190000
DTSTAMP:20260421T211222
CREATED:20260216T154929Z
LAST-MODIFIED:20260303T081527Z
UID:2619-1774083600-1774119600@pistoiacapitaledellibro2026.it
SUMMARY:Giornata mondiale delle marionette
DESCRIPTION:Allestimento di uno scaffale tematico con albi illustrati e libri per bambini che raccontano il magico mondo del teatro e delle marionette.
URL:https://pistoiacapitaledellibro2026.it/event/giornata-mondiale-delle-marionette/
LOCATION:Biblioteca San Giorgio\, Via Sandro Pertini\, 340\, Pistoia\, PT\, 51100\, Italy
CATEGORIES:Incontri
ATTACH;FMTTYPE=image/webp:https://pistoiacapitaledellibro2026.it/wp-content/uploads/2026/02/2103-Giornata-mondiale-delle-marionette.webp
END:VEVENT
BEGIN:VEVENT
DTSTART;TZID=Europe/Rome:20260320T210000
DTEND;TZID=Europe/Rome:20260320T220000
DTSTAMP:20260421T211222
CREATED:20260216T154828Z
LAST-MODIFIED:20260305T102118Z
UID:2617-1774040400-1774044000@pistoiacapitaledellibro2026.it
SUMMARY:Tutto (o quasi) quello che si può fare con Google
DESCRIPTION:Esempi pratici per semplificarci la vita\, gratis\ncon Roberto Tognelli \na cura di WOOASS William of Ockham Association | Scienza a Pistoia \nsi consiglia di portare il proprio computer portatile e/o smartphone \naccesso gratuito riservato ai soci ARCI \ninfo: info@woo-ass.org\, tel. 392 9205909 \nBenvenuti nel “Mondo di Google”\, un viaggio attraverso l’ecosistema che ha ridefinito la nostra era digitale. Esploreremo come Google\, da motore di ricerca\, sia diventato un pioniere in intelligenza artificiale\, cloud computing e oltre. Approfondiremo l’impatto di strumenti onnipresenti come Google Maps\, Android e Workspace sulla vita quotidiana e sul business. Discuteremo anche le sfide etiche e le opportunità future che queste innovazioni presentano\, offrendo una panoramica completa del ruolo di Google nel modellare la nostra realtà connessa. Il tutto con esempi pratici per usare il sistema!
URL:https://pistoiacapitaledellibro2026.it/event/tutto-o-quasi-quello-che-si-puo-fare-con-google/
LOCATION:Circolo ARCI Le Fornaci\, Via del Fornacione\, 52\, Pistoia\, Pistoia\, 51100\, Italy
CATEGORIES:Incontri
ATTACH;FMTTYPE=image/webp:https://pistoiacapitaledellibro2026.it/wp-content/uploads/2026/02/2003-Tutto-o-quasi-quello-che-si-puo-fare-con-Google.webp
END:VEVENT
BEGIN:VEVENT
DTSTART;TZID=Europe/Rome:20260320T193000
DTEND;TZID=Europe/Rome:20260320T200000
DTSTAMP:20260421T211222
CREATED:20260216T153513Z
LAST-MODIFIED:20260302T164350Z
UID:2614-1774035000-1774036800@pistoiacapitaledellibro2026.it
SUMMARY:Tra le righe
DESCRIPTION:rubrica settimanale di presentazione di libri \nogni venerdì le interviste di Simona Priami\, Silvia Cocchini\, Valentina Fiorineschi e Linda Rafanelli all’autore di un libro\, con una edizione “speciale” una volta al mese\, di martedì. \nin onda sul canale 14 del DDT \nArchivio on line delle trasmissioni:\ntvl.it/tvl-play/programmi/tra-le-righe
URL:https://pistoiacapitaledellibro2026.it/event/tra-le-righe-3/
LOCATION:TVL\, Pistoia\, 51100\, Italy
CATEGORIES:Letture
ATTACH;FMTTYPE=image/webp:https://pistoiacapitaledellibro2026.it/wp-content/uploads/2026/02/Tra-le-righe-1.webp
END:VEVENT
BEGIN:VEVENT
DTSTART;TZID=Europe/Rome:20260320T190000
DTEND;TZID=Europe/Rome:20260320T203000
DTSTAMP:20260421T211222
CREATED:20260216T153357Z
LAST-MODIFIED:20260309T131852Z
UID:2612-1774033200-1774038600@pistoiacapitaledellibro2026.it
SUMMARY:L’eco della terra: reading ecopoetico per la Giornata Mondiale della Poesia 2026
DESCRIPTION:Nell’ambito del festival Climate Fiction Days\, ideato e diretto da Alessandra Repossi\ncon Francesco Terzago e Fabio Pusterla\, introduce Monica Preti\, modera Matteo Pelliti. \nin collaborazione con Fondazione Pistoia Musei \naccesso gratuito
URL:https://pistoiacapitaledellibro2026.it/event/leco-della-terra-reading-ecopoetico-per-la-giornata-mondiale-della-poesia-2026/
LOCATION:Antico Palazzo dei Vescovi\, Piazza del Duomo\, Pistoia\, 51100\, Italy
CATEGORIES:Letture
ATTACH;FMTTYPE=image/jpeg:https://pistoiacapitaledellibro2026.it/wp-content/uploads/2026/02/ClimateFictionDays.jpg
END:VEVENT
BEGIN:VEVENT
DTSTART;TZID=Europe/Rome:20260320T183000
DTEND;TZID=Europe/Rome:20260417T193000
DTSTAMP:20260421T211222
CREATED:20260216T153218Z
LAST-MODIFIED:20260325T080744Z
UID:2610-1774031400-1776454200@pistoiacapitaledellibro2026.it
SUMMARY:Le interruzioni
DESCRIPTION:presentazione del libro di Simone Lisi (effequ\, 2026) \nsarà presente l’autore \naccesso gratuito \ninformazioni e prenotazioni: tel. 0573 26915\, libreriacinobb@gmail.com
URL:https://pistoiacapitaledellibro2026.it/event/le-interruzioni/
LOCATION:Libreria Cino\, via Cino da Pistoia 14\, Pistoia\, 51100\, Italy
CATEGORIES:Presentazioni
ATTACH;FMTTYPE=image/jpeg:https://pistoiacapitaledellibro2026.it/wp-content/uploads/2026/02/Copertina-Le-interruzioni.jpg
END:VEVENT
BEGIN:VEVENT
DTSTART;TZID=Europe/Rome:20260320T170000
DTEND;TZID=Europe/Rome:20260320T190000
DTSTAMP:20260421T211222
CREATED:20260216T153054Z
LAST-MODIFIED:20260216T153054Z
UID:2608-1774026000-1774033200@pistoiacapitaledellibro2026.it
SUMMARY:Da Wikipedia al mondo Wiki. Un viaggio di scoperta dentro la conoscenza condivisa
DESCRIPTION:Corso gratuito in 1 lezione che si propone di illustrare ai partecipanti il funzionamento della enciclopedia “Wikipedia”\, come esempio di condivisione dell’informazione di qualità. Il corso è rivolto agli adulti residenti nella provincia di Pistoia\, realizzato nell’ambito del progetto “Giovani Adulti In-Formati” finanziato da Regione Toscana a valere sulle risorse del Fondo Sociale Europeo. \niscrizione obbligatoria: fseredop.comune.pistoia.it
URL:https://pistoiacapitaledellibro2026.it/event/da-wikipedia-al-mondo-wiki-un-viaggio-di-scoperta-dentro-la-conoscenza-condivisa/
LOCATION:Biblioteca San Giorgio\, Via Sandro Pertini\, 340\, Pistoia\, PT\, 51100\, Italy
CATEGORIES:Corsi
ATTACH;FMTTYPE=image/jpeg:https://pistoiacapitaledellibro2026.it/wp-content/uploads/2025/12/IMG_DIG.jpg
END:VEVENT
BEGIN:VEVENT
DTSTART;TZID=Europe/Rome:20260320T170000
DTEND;TZID=Europe/Rome:20260320T183000
DTSTAMP:20260421T211222
CREATED:20260216T152756Z
LAST-MODIFIED:20260216T152756Z
UID:2604-1774026000-1774031400@pistoiacapitaledellibro2026.it
SUMMARY:E ti vengo a cercare
DESCRIPTION:Passeggiata per le vie del centro sulle tracce di scrittrici e poete pistoiesi\ncon la guida di Caterina Bellezza \na cura dell’Associazione I cerchi parlanti \naccesso a pagamento: 8 euro a persona (max. 25 partecipanti) \nsu prenotazione: icerchiparlanti@gmail.com
URL:https://pistoiacapitaledellibro2026.it/event/e-ti-vengo-a-cercare/
LOCATION:Centro storico di Pistoia\, Pistoia\, Pistoia\, 51100\, Italy
CATEGORIES:Incontri
ATTACH;FMTTYPE=image/webp:https://pistoiacapitaledellibro2026.it/wp-content/uploads/2025/12/Pistoia26-4-b.webp
END:VEVENT
BEGIN:VEVENT
DTSTART;TZID=Europe/Rome:20260320T163000
DTEND;TZID=Europe/Rome:20260320T183000
DTSTAMP:20260421T211222
CREATED:20260216T152302Z
LAST-MODIFIED:20260309T131655Z
UID:2602-1774024200-1774031400@pistoiacapitaledellibro2026.it
SUMMARY:Inaugurazione del festival Climate Fiction Days
DESCRIPTION:Nell’ambito del festival Climate Fiction Days\, ideato e diretto da Alessandra Repossi\ncon saluti istituzionali e introduzione di Alessandra Repossi \ne a seguire \nAvere a cuore il pianeta \nSveva Sagramola conduttrice della trasmissione tv Geo e autrice di Storia di Topino (Mondadori\, 2025) in dialogo con Alessandra Repossi \ncon la traduzione simultanea nella lingua italiana dei segni (LIS) \naccesso gratuito
URL:https://pistoiacapitaledellibro2026.it/event/inaugurazione-del-festival-climate-fiction-days/
LOCATION:Biblioteca San Giorgio\, Via Sandro Pertini\, 340\, Pistoia\, PT\, 51100\, Italy
CATEGORIES:Incontri
ATTACH;FMTTYPE=image/jpeg:https://pistoiacapitaledellibro2026.it/wp-content/uploads/2026/02/ClimateFictionDays.jpg
END:VEVENT
BEGIN:VEVENT
DTSTART;TZID=Europe/Rome:20260320T093000
DTEND;TZID=Europe/Rome:20260320T113000
DTSTAMP:20260421T211222
CREATED:20260216T151658Z
LAST-MODIFIED:20260216T151658Z
UID:2598-1773999000-1774006200@pistoiacapitaledellibro2026.it
SUMMARY:Bambini come noi... di un secolo fa.
DESCRIPTION:Dai quaderni della “Scuola in mostra” del 1929 scopriamo vecchi mestieri e tradizioni\nRivolto a bambini dal secondo anno della scuola materna fino alla V elementare. \nsolo su prenotazione: forteguerriana@comune.pistoia.it
URL:https://pistoiacapitaledellibro2026.it/event/bambini-come-noi-di-un-secolo-fa-2/
LOCATION:Biblioteca Forteguerriana\, piazza della Sapienza 5\, Pistoia\, 51100\, Italy
CATEGORIES:Incontri
ATTACH;FMTTYPE=image/jpeg:https://pistoiacapitaledellibro2026.it/wp-content/uploads/2026/01/N0Z0644.jpeg
END:VEVENT
BEGIN:VEVENT
DTSTART;TZID=Europe/Rome:20260320T090000
DTEND;TZID=Europe/Rome:20260320T133000
DTSTAMP:20260421T211222
CREATED:20260216T151521Z
LAST-MODIFIED:20260309T133232Z
UID:2595-1773997200-1774013400@pistoiacapitaledellibro2026.it
SUMMARY:Questa birberia del leggere e dello scrivere
DESCRIPTION:Festival del libro per le scuole secondarie di primo grado della provincia di Pistoia \nLe classi che partecipano al Festival incontrano gli autori Daniele Aristarco\, Manlio Castagna e Fabrizio Silei \na cura di Fondazione Caript e Biblioteca San Giorgio
URL:https://pistoiacapitaledellibro2026.it/event/questa-birberia-del-leggere-e-dello-scrivere-2/
LOCATION:Biblioteca San Giorgio\, Via Sandro Pertini\, 340\, Pistoia\, PT\, 51100\, Italy
CATEGORIES:Incontri
ATTACH;FMTTYPE=image/jpeg:https://pistoiacapitaledellibro2026.it/wp-content/uploads/2026/02/1903-QuestaBirberia.jpg
END:VEVENT
BEGIN:VEVENT
DTSTART;TZID=UTC:20260320T090000
DTEND;TZID=UTC:20260320T103000
DTSTAMP:20260421T211222
CREATED:20260216T151431Z
LAST-MODIFIED:20260216T151431Z
UID:2593-1773997200-1774002600@pistoiacapitaledellibro2026.it
SUMMARY:Senza parole!
DESCRIPTION:Percorso didattico alla scoperta dei “silent books” riservato alle classi della scuola dell’infanzia e della primaria. \nsolo su prenotazione: sangiorgio@comune.pistoia.it
URL:https://pistoiacapitaledellibro2026.it/event/senza-parole-10/
LOCATION:Biblioteca San Giorgio\, Via Sandro Pertini\, 340\, Pistoia\, PT\, 51100\, Italy
CATEGORIES:Incontri
ATTACH;FMTTYPE=image/jpeg:https://pistoiacapitaledellibro2026.it/wp-content/uploads/2026/01/SenzaParole.jpg
END:VEVENT
BEGIN:VEVENT
DTSTART;TZID=Europe/Rome:20260319T210000
DTEND;TZID=Europe/Rome:20260319T223000
DTSTAMP:20260421T211222
CREATED:20260216T151235Z
LAST-MODIFIED:20260216T151235Z
UID:2591-1773954000-1773959400@pistoiacapitaledellibro2026.it
SUMMARY:La lunghezza d’onda della felicità
DESCRIPTION:spettacolo di e con Gabriella Greison \nMusiche originali francesi. Insert audio con le voci di Marco Caronna e Enrico Ballardini. \naccesso libero e gratuito fino ad esaurimento dei posti disponibili \ninfo: cultura@comune.pistoia.it \nUna donna corre\, si perde per un attimo… e scopre di essere un’onda. Da lì parte un viaggio che intreccia biografia e fisica quantistica: l’intuizione di Louis de Broglie racchiusa in una formula\, la solitudine nobile di chi sceglie l’equazione alla corte\, i riconoscimenti che luccicano un istante e poi tacciono sul fondo. Tra simmetrie e rotture di simmetria\, dialoghi immaginari con l’Onda\, e “salti quantici” tradotti in scelte di vita\, la scena si popola di piccoli oggetti immersi in una ciotola d’acqua: ogni tuffo è una metafora che vibra.
URL:https://pistoiacapitaledellibro2026.it/event/la-lunghezza-donda-della-felicita/
LOCATION:Piccolo Teatro Mauro Bolognini\, via del Presto 5\, Pistoia\, 51100\, Italy
CATEGORIES:Teatro
ATTACH;FMTTYPE=image/jpeg:https://pistoiacapitaledellibro2026.it/wp-content/uploads/2025/12/teatro.jpeg
END:VEVENT
BEGIN:VEVENT
DTSTART;TZID=Europe/Rome:20260319T183000
DTEND;TZID=Europe/Rome:20260319T200000
DTSTAMP:20260421T211222
CREATED:20260305T101730Z
LAST-MODIFIED:20260305T101730Z
UID:2939-1773945000-1773950400@pistoiacapitaledellibro2026.it
SUMMARY:Le occasioni di Giovanna
DESCRIPTION:Presentazione del romanzo di Claudio Morandini (Nottetempo\, 2026)\nL’autore dialoga con Marco Marrucci
URL:https://pistoiacapitaledellibro2026.it/event/le-occasioni-di-giovanna/
LOCATION:Libreria Cino\, via Cino da Pistoia 14\, Pistoia\, 51100\, Italy
CATEGORIES:Presentazioni
ATTACH;FMTTYPE=image/webp:https://pistoiacapitaledellibro2026.it/wp-content/uploads/2026/03/le-occasioni-di-giovanna-claudio-morandini.webp
END:VEVENT
BEGIN:VEVENT
DTSTART;TZID=Europe/Rome:20260319T183000
DTEND;TZID=Europe/Rome:20260319T200000
DTSTAMP:20260421T211222
CREATED:20260216T151003Z
LAST-MODIFIED:20260216T151003Z
UID:2589-1773945000-1773950400@pistoiacapitaledellibro2026.it
SUMMARY:Ragazzo
DESCRIPTION:presentazione del libro di Sacha Naspini (e/o\, 2025) \nl’autore in dialogo con Maurizio Gori e Giuseppe Previti \nin collaborazione con l’Associazione Giallo Pistoia \naccesso gratuito
URL:https://pistoiacapitaledellibro2026.it/event/ragazzo/
LOCATION:Libreria Lo Spazio\, via Curtatone e Montanara\, 20\, Pistoia\, italy\, 51100
CATEGORIES:Presentazioni
ATTACH;FMTTYPE=image/jpeg:https://pistoiacapitaledellibro2026.it/wp-content/uploads/2026/01/lospazio-img6.jpeg
END:VEVENT
BEGIN:VEVENT
DTSTART;TZID=Europe/Rome:20260319T183000
DTEND;TZID=Europe/Rome:20260319T193000
DTSTAMP:20260421T211222
CREATED:20260216T150633Z
LAST-MODIFIED:20260302T131202Z
UID:2586-1773945000-1773948600@pistoiacapitaledellibro2026.it
SUMMARY:Lettura scenica da Montagne e nuvole negli occhi di Wu Ming-yi (e/o\, 2021)
DESCRIPTION:Nell’ambito del festival Climate Fiction Days\, ideato e diretto da Alessandra Repossi\ncon Anna Della Rosa\, attrice \nPrima nazionale \naccesso gratuito (max. 50 posti)
URL:https://pistoiacapitaledellibro2026.it/event/lettura-scenica-da-montagne-e-nuvole-negli-occhi-di-wu-ming-yi-e-o-2021/
LOCATION:Centro culturale Il Funaro\, via del Funaro 16\, Pistoia\, 51100\, Italy
CATEGORIES:Letture
ATTACH;FMTTYPE=image/jpeg:https://pistoiacapitaledellibro2026.it/wp-content/uploads/2026/02/Copertina-Montagne-e-nuvole-negli-occhi-di-Wu-Ming-yi.jpg
END:VEVENT
BEGIN:VEVENT
DTSTART;TZID=Europe/Rome:20260319T173000
DTEND;TZID=Europe/Rome:20260319T190000
DTSTAMP:20260421T211222
CREATED:20260216T145459Z
LAST-MODIFIED:20260302T164506Z
UID:2582-1773941400-1773946800@pistoiacapitaledellibro2026.it
SUMMARY:Dialogare con la migliore versione di te (2)
DESCRIPTION:Mappare la Relazione tra il corpo e il trauma\nSecondo di tre incontri per imparare a rileggere e raccontare la propria esperienza in modo più consapevole e flessibile. \na cura di Cristiana Ferrara\, psicologa psicoterapeuta \naccesso gratuito su prenotazione: corsi.sangiorgio@comune.pistoia.it \nincontro successivo : 26 marzo 2026
URL:https://pistoiacapitaledellibro2026.it/event/dialogare-con-la-migliore-versione-di-te-2/
LOCATION:Biblioteca San Giorgio\, Via Sandro Pertini\, 340\, Pistoia\, PT\, 51100\, Italy
CATEGORIES:Corsi
ATTACH;FMTTYPE=image/jpeg:https://pistoiacapitaledellibro2026.it/wp-content/uploads/2026/02/Dialogare-con-la-migliore-versione-di-te-1.jpg
END:VEVENT
BEGIN:VEVENT
DTSTART;TZID=Europe/Rome:20260319T170000
DTEND;TZID=Europe/Rome:20260319T190000
DTSTAMP:20260421T211222
CREATED:20260216T145706Z
LAST-MODIFIED:20260302T131110Z
UID:2584-1773939600-1773946800@pistoiacapitaledellibro2026.it
SUMMARY:Il negoziatore
DESCRIPTION:Presentazione del libro di Michael Tsur\, Frediano Finucci (Paesi\, 2026) \nSaranno presenti gli autori Michael Tsur\, avvocato e negoziatore professionista\, e Frediano Finucci\, giornalista capo della redazione economia ed esteri del TG de La7. \naccesso gratuito
URL:https://pistoiacapitaledellibro2026.it/event/il-negoziatore/
LOCATION:Biblioteca San Giorgio\, Via Sandro Pertini\, 340\, Pistoia\, PT\, 51100\, Italy
CATEGORIES:Presentazioni
ATTACH;FMTTYPE=image/jpeg:https://pistoiacapitaledellibro2026.it/wp-content/uploads/2026/02/il-negoziatore.jpeg
END:VEVENT
BEGIN:VEVENT
DTSTART;TZID=Europe/Rome:20260319T170000
DTEND;TZID=Europe/Rome:20260319T180000
DTSTAMP:20260421T211222
CREATED:20260216T145312Z
LAST-MODIFIED:20260309T133110Z
UID:2580-1773939600-1773943200@pistoiacapitaledellibro2026.it
SUMMARY:Ad alta voce per la legalità
DESCRIPTION:Lettura di storie a cura dei lettori volontari del circolo LaAV di Pistoia \nper bambini da 5 a 10 anni \nPrenotazione consigliata: corsi.sangiorgio@comune.pistoia.it (max. 10 bambini)
URL:https://pistoiacapitaledellibro2026.it/event/ad-alta-voce-per-la-legalita/
LOCATION:Biblioteca San Giorgio\, Via Sandro Pertini\, 340\, Pistoia\, PT\, 51100\, Italy
CATEGORIES:Letture
ATTACH;FMTTYPE=image/png:https://pistoiacapitaledellibro2026.it/wp-content/uploads/2026/02/1903-AdAltaVoce.png
END:VEVENT
BEGIN:VEVENT
DTSTART;TZID=Europe/Rome:20260319T163000
DTEND;TZID=Europe/Rome:20260319T183000
DTSTAMP:20260421T211222
CREATED:20260216T145139Z
LAST-MODIFIED:20260216T145139Z
UID:2578-1773937800-1773945000@pistoiacapitaledellibro2026.it
SUMMARY:Il cinema delle donne
DESCRIPTION:proiezione di un film in omaggio ad una professionista della “settima arte” \nprogramma di dettaglio in biblioteca \naccesso gratuito (max. 20 posti)
URL:https://pistoiacapitaledellibro2026.it/event/il-cinema-delle-donne-3/
LOCATION:Biblioteca San Giorgio\, Via Sandro Pertini\, 340\, Pistoia\, PT\, 51100\, Italy
CATEGORIES:Cinema
ATTACH;FMTTYPE=image/jpeg:https://pistoiacapitaledellibro2026.it/wp-content/uploads/2026/01/cinema-scaled-e1770897447540.jpg
END:VEVENT
BEGIN:VEVENT
DTSTART;TZID=UTC:20260319T160000
DTEND;TZID=UTC:20260319T190000
DTSTAMP:20260421T211222
CREATED:20260216T145050Z
LAST-MODIFIED:20260216T145050Z
UID:2576-1773936000-1773946800@pistoiacapitaledellibro2026.it
SUMMARY:Scacco al re
DESCRIPTION:Una pausa di gioco tra una lettura e l’altra \na cura dell’Associazione Amici della San Giorgio
URL:https://pistoiacapitaledellibro2026.it/event/scacco-al-re-22/
LOCATION:Biblioteca San Giorgio\, Via Sandro Pertini\, 340\, Pistoia\, PT\, 51100\, Italy
CATEGORIES:Giochi
ATTACH;FMTTYPE=image/webp:https://pistoiacapitaledellibro2026.it/wp-content/uploads/2025/12/scacco-al-re.webp
END:VEVENT
BEGIN:VEVENT
DTSTART;TZID=Europe/Rome:20260319T100000
DTEND;TZID=Europe/Rome:20260319T120000
DTSTAMP:20260421T211222
CREATED:20260216T145011Z
LAST-MODIFIED:20260309T132024Z
UID:2574-1773914400-1773921600@pistoiacapitaledellibro2026.it
SUMMARY:Noi e il mondo tutt’attorno
DESCRIPTION:Nell’ambito del festival Climate Fiction Days\, ideato e diretto da Alessandra Repossi\nLaboratorio esperienziale riservato ai degenti \nIdeato e condotto da Susanna Stigler\, scenografa\, progettista e artista visiva.
URL:https://pistoiacapitaledellibro2026.it/event/noi-e-il-mondo-tuttattorno/
LOCATION:Fondazione MAIC – Centro Fratelli Carrara\, Via San Biagio\, 102\, Pistoia\, Pistoia\, 51100
CATEGORIES:Corsi,Incontri
ATTACH;FMTTYPE=image/jpeg:https://pistoiacapitaledellibro2026.it/wp-content/uploads/2026/02/ClimateFictionDays.jpg
END:VEVENT
BEGIN:VEVENT
DTSTART;TZID=Europe/Rome:20260319T090000
DTEND;TZID=Europe/Rome:20260319T133000
DTSTAMP:20260421T211222
CREATED:20260216T144758Z
LAST-MODIFIED:20260309T133219Z
UID:2572-1773910800-1773927000@pistoiacapitaledellibro2026.it
SUMMARY:Questa birberia del leggere e dello scrivere
DESCRIPTION:Festival del libro per le scuole secondarie di primo grado della provincia di Pistoia \nLe classi che partecipano al Festival incontrano gli autori Daniele Aristarco\, Manlio Castagna e Fabrizio Silei \na cura di Fondazione Caript e Biblioteca San Giorgio
URL:https://pistoiacapitaledellibro2026.it/event/questa-birberia-del-leggere-e-dello-scrivere/
LOCATION:Biblioteca San Giorgio\, Via Sandro Pertini\, 340\, Pistoia\, PT\, 51100\, Italy
CATEGORIES:Incontri
ATTACH;FMTTYPE=image/jpeg:https://pistoiacapitaledellibro2026.it/wp-content/uploads/2026/02/1903-QuestaBirberia.jpg
END:VEVENT
BEGIN:VEVENT
DTSTART;TZID=UTC:20260319T090000
DTEND;TZID=UTC:20260319T103000
DTSTAMP:20260421T211222
CREATED:20260216T144616Z
LAST-MODIFIED:20260216T144616Z
UID:2570-1773910800-1773916200@pistoiacapitaledellibro2026.it
SUMMARY:Un nido di libri
DESCRIPTION:Percorso didattico per conoscere la Sezione Ragazzi riservato alle scuole dell’infanzia. \nsolo su prenotazione: sangiorgio@comune.pistoia.it
URL:https://pistoiacapitaledellibro2026.it/event/un-nido-di-libri-8/
LOCATION:Biblioteca San Giorgio\, Via Sandro Pertini\, 340\, Pistoia\, PT\, 51100\, Italy
CATEGORIES:Incontri
ATTACH;FMTTYPE=image/jpeg:https://pistoiacapitaledellibro2026.it/wp-content/uploads/2026/01/babyLibri.jpg
END:VEVENT
BEGIN:VEVENT
DTSTART;TZID=Europe/Rome:20260319T083000
DTEND;TZID=Europe/Rome:20260319T103000
DTSTAMP:20260421T211222
CREATED:20260216T144448Z
LAST-MODIFIED:20260303T081214Z
UID:2566-1773909000-1773916200@pistoiacapitaledellibro2026.it
SUMMARY:Dialogo curioso con uno spaventapasseri
DESCRIPTION:I ragazzi incontrano uno spaventapasseri di campagna\, in compagnia della scrittrice Silvana Agostini\, autrice del libro Storie di spaventapasseri (2018). \naccesso aperto ai genitori degli alunni coinvolti nell’incontro
URL:https://pistoiacapitaledellibro2026.it/event/dialogo-curioso-con-uno-spaventapasseri/
LOCATION:Scuola Primaria Renato Fucini\, Via Carlo Forlanini\, 8\, Pistoia\, PT\, 51100\, Italy
CATEGORIES:Incontri
ATTACH;FMTTYPE=image/webp:https://pistoiacapitaledellibro2026.it/wp-content/uploads/2026/02/1903-Dialogo-curioso-con-uno-spaventapasseri.webp
END:VEVENT
END:VCALENDAR