BEGIN:VCALENDAR
VERSION:2.0
PRODID:-//Pistoia Capitale Italiana del Libro 2026 - ECPv6.15.12.2//NONSGML v1.0//EN
CALSCALE:GREGORIAN
METHOD:PUBLISH
X-WR-CALNAME:Pistoia Capitale Italiana del Libro 2026
X-ORIGINAL-URL:https://pistoiacapitaledellibro2026.it
X-WR-CALDESC:Eventi per Pistoia Capitale Italiana del Libro 2026
REFRESH-INTERVAL;VALUE=DURATION:PT1H
X-Robots-Tag:noindex
X-PUBLISHED-TTL:PT1H
BEGIN:VTIMEZONE
TZID:Europe/Rome
BEGIN:DAYLIGHT
TZOFFSETFROM:+0100
TZOFFSETTO:+0200
TZNAME:CEST
DTSTART:20250330T010000
END:DAYLIGHT
BEGIN:STANDARD
TZOFFSETFROM:+0200
TZOFFSETTO:+0100
TZNAME:CET
DTSTART:20251026T010000
END:STANDARD
BEGIN:DAYLIGHT
TZOFFSETFROM:+0100
TZOFFSETTO:+0200
TZNAME:CEST
DTSTART:20260329T010000
END:DAYLIGHT
BEGIN:STANDARD
TZOFFSETFROM:+0200
TZOFFSETTO:+0100
TZNAME:CET
DTSTART:20261025T010000
END:STANDARD
BEGIN:DAYLIGHT
TZOFFSETFROM:+0100
TZOFFSETTO:+0200
TZNAME:CEST
DTSTART:20270328T010000
END:DAYLIGHT
BEGIN:STANDARD
TZOFFSETFROM:+0200
TZOFFSETTO:+0100
TZNAME:CET
DTSTART:20271031T010000
END:STANDARD
END:VTIMEZONE
BEGIN:VTIMEZONE
TZID:UTC
BEGIN:STANDARD
TZOFFSETFROM:+0000
TZOFFSETTO:+0000
TZNAME:UTC
DTSTART:20250101T000000
END:STANDARD
END:VTIMEZONE
BEGIN:VEVENT
DTSTART;TZID=Europe/Rome:20260319T163000
DTEND;TZID=Europe/Rome:20260319T183000
DTSTAMP:20260422T002524
CREATED:20260216T145139Z
LAST-MODIFIED:20260216T145139Z
UID:2578-1773937800-1773945000@pistoiacapitaledellibro2026.it
SUMMARY:Il cinema delle donne
DESCRIPTION:proiezione di un film in omaggio ad una professionista della “settima arte” \nprogramma di dettaglio in biblioteca \naccesso gratuito (max. 20 posti)
URL:https://pistoiacapitaledellibro2026.it/event/il-cinema-delle-donne-3/
LOCATION:Biblioteca San Giorgio\, Via Sandro Pertini\, 340\, Pistoia\, PT\, 51100\, Italy
CATEGORIES:Cinema
ATTACH;FMTTYPE=image/jpeg:https://pistoiacapitaledellibro2026.it/wp-content/uploads/2026/01/cinema-scaled-e1770897447540.jpg
END:VEVENT
BEGIN:VEVENT
DTSTART;TZID=UTC:20260319T160000
DTEND;TZID=UTC:20260319T190000
DTSTAMP:20260422T002524
CREATED:20260216T145050Z
LAST-MODIFIED:20260216T145050Z
UID:2576-1773936000-1773946800@pistoiacapitaledellibro2026.it
SUMMARY:Scacco al re
DESCRIPTION:Una pausa di gioco tra una lettura e l’altra \na cura dell’Associazione Amici della San Giorgio
URL:https://pistoiacapitaledellibro2026.it/event/scacco-al-re-22/
LOCATION:Biblioteca San Giorgio\, Via Sandro Pertini\, 340\, Pistoia\, PT\, 51100\, Italy
CATEGORIES:Giochi
ATTACH;FMTTYPE=image/webp:https://pistoiacapitaledellibro2026.it/wp-content/uploads/2025/12/scacco-al-re.webp
END:VEVENT
BEGIN:VEVENT
DTSTART;TZID=Europe/Rome:20260319T100000
DTEND;TZID=Europe/Rome:20260319T120000
DTSTAMP:20260422T002524
CREATED:20260216T145011Z
LAST-MODIFIED:20260309T132024Z
UID:2574-1773914400-1773921600@pistoiacapitaledellibro2026.it
SUMMARY:Noi e il mondo tutt’attorno
DESCRIPTION:Nell’ambito del festival Climate Fiction Days\, ideato e diretto da Alessandra Repossi\nLaboratorio esperienziale riservato ai degenti \nIdeato e condotto da Susanna Stigler\, scenografa\, progettista e artista visiva.
URL:https://pistoiacapitaledellibro2026.it/event/noi-e-il-mondo-tuttattorno/
LOCATION:Fondazione MAIC – Centro Fratelli Carrara\, Via San Biagio\, 102\, Pistoia\, Pistoia\, 51100
CATEGORIES:Corsi,Incontri
ATTACH;FMTTYPE=image/jpeg:https://pistoiacapitaledellibro2026.it/wp-content/uploads/2026/02/ClimateFictionDays.jpg
END:VEVENT
BEGIN:VEVENT
DTSTART;TZID=Europe/Rome:20260319T090000
DTEND;TZID=Europe/Rome:20260319T133000
DTSTAMP:20260422T002524
CREATED:20260216T144758Z
LAST-MODIFIED:20260309T133219Z
UID:2572-1773910800-1773927000@pistoiacapitaledellibro2026.it
SUMMARY:Questa birberia del leggere e dello scrivere
DESCRIPTION:Festival del libro per le scuole secondarie di primo grado della provincia di Pistoia \nLe classi che partecipano al Festival incontrano gli autori Daniele Aristarco\, Manlio Castagna e Fabrizio Silei \na cura di Fondazione Caript e Biblioteca San Giorgio
URL:https://pistoiacapitaledellibro2026.it/event/questa-birberia-del-leggere-e-dello-scrivere/
LOCATION:Biblioteca San Giorgio\, Via Sandro Pertini\, 340\, Pistoia\, PT\, 51100\, Italy
CATEGORIES:Incontri
ATTACH;FMTTYPE=image/jpeg:https://pistoiacapitaledellibro2026.it/wp-content/uploads/2026/02/1903-QuestaBirberia.jpg
END:VEVENT
BEGIN:VEVENT
DTSTART;TZID=UTC:20260319T090000
DTEND;TZID=UTC:20260319T103000
DTSTAMP:20260422T002524
CREATED:20260216T144616Z
LAST-MODIFIED:20260216T144616Z
UID:2570-1773910800-1773916200@pistoiacapitaledellibro2026.it
SUMMARY:Un nido di libri
DESCRIPTION:Percorso didattico per conoscere la Sezione Ragazzi riservato alle scuole dell’infanzia. \nsolo su prenotazione: sangiorgio@comune.pistoia.it
URL:https://pistoiacapitaledellibro2026.it/event/un-nido-di-libri-8/
LOCATION:Biblioteca San Giorgio\, Via Sandro Pertini\, 340\, Pistoia\, PT\, 51100\, Italy
CATEGORIES:Incontri
ATTACH;FMTTYPE=image/jpeg:https://pistoiacapitaledellibro2026.it/wp-content/uploads/2026/01/babyLibri.jpg
END:VEVENT
BEGIN:VEVENT
DTSTART;TZID=Europe/Rome:20260319T083000
DTEND;TZID=Europe/Rome:20260319T103000
DTSTAMP:20260422T002524
CREATED:20260216T144448Z
LAST-MODIFIED:20260303T081214Z
UID:2566-1773909000-1773916200@pistoiacapitaledellibro2026.it
SUMMARY:Dialogo curioso con uno spaventapasseri
DESCRIPTION:I ragazzi incontrano uno spaventapasseri di campagna\, in compagnia della scrittrice Silvana Agostini\, autrice del libro Storie di spaventapasseri (2018). \naccesso aperto ai genitori degli alunni coinvolti nell’incontro
URL:https://pistoiacapitaledellibro2026.it/event/dialogo-curioso-con-uno-spaventapasseri/
LOCATION:Scuola Primaria Renato Fucini\, Via Carlo Forlanini\, 8\, Pistoia\, PT\, 51100\, Italy
CATEGORIES:Incontri
ATTACH;FMTTYPE=image/webp:https://pistoiacapitaledellibro2026.it/wp-content/uploads/2026/02/1903-Dialogo-curioso-con-uno-spaventapasseri.webp
END:VEVENT
BEGIN:VEVENT
DTSTART;TZID=Europe/Rome:20260318T193000
DTEND;TZID=Europe/Rome:20260318T203000
DTSTAMP:20260422T002524
CREATED:20260216T144118Z
LAST-MODIFIED:20260302T130920Z
UID:2564-1773862200-1773865800@pistoiacapitaledellibro2026.it
SUMMARY:Book Club in collaborazione con Giallo Pistoia
DESCRIPTION:Terzo incontro con il Book Club Il Circolo dei Sospetti per parlare del romanzo Il talento di Mr. Ripley di Patricia Highsmith. \naccesso gratuito\, informazioni e prenotazioni: tel. 0573 26915\,  \nlibreriacinobb@gmail.com
URL:https://pistoiacapitaledellibro2026.it/event/book-club-in-collaborazione-con-giallo-pistoia/
LOCATION:Libreria Cino\, via Cino da Pistoia 14\, Pistoia\, 51100\, Italy
CATEGORIES:Incontri
ATTACH;FMTTYPE=image/jpeg:https://pistoiacapitaledellibro2026.it/wp-content/uploads/2026/02/Copertina-Il-talento-di-Mr.-Ripley-di-Patricia-Highsmith.jpg
END:VEVENT
BEGIN:VEVENT
DTSTART;TZID=Europe/Rome:20260318T183000
DTEND;TZID=Europe/Rome:20260318T193000
DTSTAMP:20260422T002524
CREATED:20260216T143719Z
LAST-MODIFIED:20260309T131937Z
UID:2561-1773858600-1773862200@pistoiacapitaledellibro2026.it
SUMMARY:Un’antropologa sotto il cielo africano. Storie di viaggio e clima che cambia
DESCRIPTION:Nell’ambito del festival Climate Fiction Days\, ideato e diretto da Alessandra Repossi\ncon Elena Dak\, antropologa e autrice dei libri La carovana del sale (Corbaccio\, 2007) e Io cammino con i nomadi (Corbaccio\, 2016). \nModera Gaia Angeli\, del gruppo di lettura Tra(n)noi
URL:https://pistoiacapitaledellibro2026.it/event/unantropologa-sotto-il-cielo-africano-storie-di-viaggio-e-clima-che-cambia/
LOCATION:Museo del Novecento e del Contemporaneo di Palazzo Fabroni\, Via Sant'Andrea\, 18\, Pistoia\, Pistoia\, 51100
CATEGORIES:Incontri
ATTACH;FMTTYPE=image/jpeg:https://pistoiacapitaledellibro2026.it/wp-content/uploads/2026/02/ClimateFictionDays.jpg
END:VEVENT
BEGIN:VEVENT
DTSTART;TZID=Europe/Rome:20260318T180000
DTEND;TZID=Europe/Rome:20260318T193000
DTSTAMP:20260422T002524
CREATED:20260310T140024Z
LAST-MODIFIED:20260310T140024Z
UID:3011-1773856800-1773862200@pistoiacapitaledellibro2026.it
SUMMARY:Pasolini giornalista
DESCRIPTION:Presentazione del libro di Giovanni Giovannetti (Effigie\, 2025)\nDialogano con l’autore\, Claudio Frosini e Cesare Sartori \nevento in collaborazione con l’Ass. cult. NOMOS – Archivio Gianluigi Paganelli
URL:https://pistoiacapitaledellibro2026.it/event/pasolini-giornalista/
LOCATION:Libreria Lo Spazio\, via Curtatone e Montanara\, 20\, Pistoia\, italy\, 51100
CATEGORIES:Presentazioni
ATTACH;FMTTYPE=image/jpeg:https://pistoiacapitaledellibro2026.it/wp-content/uploads/2026/03/pasolini-giornalista.jpg
END:VEVENT
BEGIN:VEVENT
DTSTART;TZID=Europe/Rome:20260318T170000
DTEND;TZID=Europe/Rome:20260318T190000
DTSTAMP:20260422T002524
CREATED:20260216T142911Z
LAST-MODIFIED:20260216T142911Z
UID:2556-1773853200-1773860400@pistoiacapitaledellibro2026.it
SUMMARY:La reputazione on line: che cos’è\, come si misura\, come si governa
DESCRIPTION:Corso gratuito in 2 lezioni che si propone di illustrare ai partecipanti il nuovo concetto di “reputazione on line” venuto alla ribalta in occasione della diffusione dei sistemi di ranking. Il corso è rivolto agli adulti residenti nella provincia di Pistoia\, realizzato nell’ambito del progetto “Giovani Adulti In-Formati” finanziato da Regione Toscana a valere sulle risorse del Fondo Sociale Europeo. \nlezione successiva: 25 marzo 2026 \niscrizione obbligatoria: fseredop.comune.pistoia.it
URL:https://pistoiacapitaledellibro2026.it/event/la-reputazione-on-line-che-cose-come-si-misura-come-si-governa/
LOCATION:Biblioteca San Giorgio\, Via Sandro Pertini\, 340\, Pistoia\, PT\, 51100\, Italy
CATEGORIES:Corsi
ATTACH;FMTTYPE=image/jpeg:https://pistoiacapitaledellibro2026.it/wp-content/uploads/2025/12/IMG_DIG.jpg
END:VEVENT
BEGIN:VEVENT
DTSTART;TZID=Europe/Rome:20260318T170000
DTEND;TZID=Europe/Rome:20260318T183000
DTSTAMP:20260422T002524
CREATED:20260216T143311Z
LAST-MODIFIED:20260316T160047Z
UID:2558-1773853200-1773858600@pistoiacapitaledellibro2026.it
SUMMARY:Il cinema del Papa: la settima arte vista dal Vaticano
DESCRIPTION:Per il ciclo di incontri “Sotto il segno di Jacopo”\nDal tempo di Leone XIII\, primo Papa della storia ad essere filmato\, alle soglie del pontificato di Leone XIV\, il rapporto tra la Chiesa e il cinema ha vissuto un secolo segnato da numerosi documenti\, interventi\, appelli\, esitazioni\, iniziative sorprendenti. Una storia raccontata e ampiamente documentata nel libro di Marco Dal Pozzo\, Pro Cinema. La settima arte vista dalla Chiesa\, (Inquadrature Perfette\, 2025). \nIncontro moderato da Massimo Chiossi\, Centro Mauro Bolognini. Saranno presenti l’autore del libro e l’editore Attilio Sodi. \na cura della Diocesi di Pistoia \naccesso gratuito\, info: redazione@diocesipistoia.it
URL:https://pistoiacapitaledellibro2026.it/event/il-cinema-del-papa-la-settima-arte-vista-dal-vaticano/
LOCATION:Cinema Roma\, Via Laudesi\, 6\, Pistoia\, Pistoia\, 51100
CATEGORIES:Incontri
ATTACH;FMTTYPE=image/webp:https://pistoiacapitaledellibro2026.it/wp-content/uploads/2026/02/1803-Il-cinema-del-Papa-la-settima-arte-vista-dal-Vaticano.webp
END:VEVENT
BEGIN:VEVENT
DTSTART;TZID=Europe/Rome:20260318T170000
DTEND;TZID=Europe/Rome:20260318T183000
DTSTAMP:20260422T002524
CREATED:20260216T142742Z
LAST-MODIFIED:20260226T121701Z
UID:2554-1773853200-1773858600@pistoiacapitaledellibro2026.it
SUMMARY:Meravigliandosi dei luoghi comuni
DESCRIPTION:Raccontare il quartiere attraverso la fotografia\, le storie e gli sguardi\niniziativa dedicata a giovani dai 14 ai 19 anni \na cura del Servizio Politiche di Inclusione Sociale\, Istituti Raggruppati\, Azienda Pubblica di Servizi alla Persona\, Intrecci cooperativa sociale\, Manusa cooperativa sociale e del Centro di Aggregazione Giovanile “Sotto il Palazzo” \nin collaborazione con Nub Project Space \naccesso gratuito su prenotazione: sottoilpalazzo@intreccicoop.it
URL:https://pistoiacapitaledellibro2026.it/event/meravigliandosi-dei-luoghi-comuni-2/
LOCATION:Sotto il Palazzo\, piazza Nelson Mandela\, Pistoia\, 51100\, Italy
CATEGORIES:Incontri
ATTACH;FMTTYPE=image/png:https://pistoiacapitaledellibro2026.it/wp-content/uploads/2026/02/intrecci-logo.png
END:VEVENT
BEGIN:VEVENT
DTSTART;TZID=Europe/Rome:20260318T170000
DTEND;TZID=Europe/Rome:20260318T183000
DTSTAMP:20260422T002524
CREATED:20260216T142637Z
LAST-MODIFIED:20260309T133023Z
UID:2552-1773853200-1773858600@pistoiacapitaledellibro2026.it
SUMMARY:Giacomino nel sacco
DESCRIPTION:Aspettando la Giornata della Marionetta\nRiuscirà Giacomino a fuggire dal sacco nel quale l’ha rinchiuso la strega? \nLettura con kamishibai e laboratorio per costruire la propria marionetta. \na cura di Linda Di Giacomo \nPer bambini da 4 a 7 anni. Massimo 10 bambini.  \nAccesso gratuito su prenotazione: corsi.sangiorgio@comune.pistoia.it
URL:https://pistoiacapitaledellibro2026.it/event/giacomino-nel-sacco/
LOCATION:Biblioteca San Giorgio\, Via Sandro Pertini\, 340\, Pistoia\, PT\, 51100\, Italy
CATEGORIES:Letture
ATTACH;FMTTYPE=image/jpeg:https://pistoiacapitaledellibro2026.it/wp-content/uploads/2026/02/1803-Giacomino.jpg
END:VEVENT
BEGIN:VEVENT
DTSTART;TZID=Europe/Rome:20260318T160000
DTEND;TZID=Europe/Rome:20260318T183000
DTSTAMP:20260422T002524
CREATED:20260216T142442Z
LAST-MODIFIED:20260216T142442Z
UID:2550-1773849600-1773858600@pistoiacapitaledellibro2026.it
SUMMARY:Omaggio a Tom Cruise\, Oscar alla carriera 2026
DESCRIPTION:Proiezione di un’opera tratta dalla sua filmografia \na cura di YouLab Pistoia. An American Corner \nprogramma di dettaglio in biblioteca \naccesso gratuito (max. 20 persone)
URL:https://pistoiacapitaledellibro2026.it/event/omaggio-a-tom-cruise-oscar-alla-carriera-2026-3/
LOCATION:Biblioteca San Giorgio\, Via Sandro Pertini\, 340\, Pistoia\, PT\, 51100\, Italy
CATEGORIES:Cinema
ATTACH;FMTTYPE=image/jpeg:https://pistoiacapitaledellibro2026.it/wp-content/uploads/2026/01/cinema-scaled-e1770897447540.jpg
END:VEVENT
BEGIN:VEVENT
DTSTART;TZID=Europe/Rome:20260318T153000
DTEND;TZID=Europe/Rome:20260318T173000
DTSTAMP:20260422T002524
CREATED:20260305T101456Z
LAST-MODIFIED:20260320T110545Z
UID:2937-1773847800-1773855000@pistoiacapitaledellibro2026.it
SUMMARY:Presentazione dei libri di Sigfrido Ranucci Navigare senza paura e Il ritorno della casta
DESCRIPTION:Conduce l’incontro Maurizio Gori \nFirma copie in apertura e chiusura dell’evento
URL:https://pistoiacapitaledellibro2026.it/event/presentazione-dei-libri-di-sigfrido-ranucci-navigare-senza-paura-e-il-ritorno-della-casta/
LOCATION:Sala Soci Coop\, viale Adua 6\, Pistoia\, Italy
CATEGORIES:Presentazioni
ATTACH;FMTTYPE=image/jpeg:https://pistoiacapitaledellibro2026.it/wp-content/uploads/2026/03/sigfrido-ranucci.jpg
END:VEVENT
BEGIN:VEVENT
DTSTART;TZID=Europe/Rome:20260318T110000
DTEND;TZID=Europe/Rome:20260318T130000
DTSTAMP:20260422T002524
CREATED:20260216T142306Z
LAST-MODIFIED:20260320T110447Z
UID:2548-1773831600-1773838800@pistoiacapitaledellibro2026.it
SUMMARY:Il corpo desidera\, il corpo parla\, il corpo sa
DESCRIPTION:Aspettando il festival “Dialoghi di Pistoia”\nConferenza di Marco Rovelli rivolta agli studenti degli istituti superiori della provincia di Pistoia.
URL:https://pistoiacapitaledellibro2026.it/event/il-corpo-desidera-il-corpo-parla-il-corpo-sa/
LOCATION:Piccolo Teatro Mauro Bolognini\, via del Presto 5\, Pistoia\, 51100\, Italy
CATEGORIES:Incontri
ATTACH;FMTTYPE=image/jpeg:https://pistoiacapitaledellibro2026.it/wp-content/uploads/2026/02/marco-rovelli.jpg
END:VEVENT
BEGIN:VEVENT
DTSTART;TZID=UTC:20260318T090000
DTEND;TZID=UTC:20260318T103000
DTSTAMP:20260422T002524
CREATED:20260216T142138Z
LAST-MODIFIED:20260216T142138Z
UID:2546-1773824400-1773829800@pistoiacapitaledellibro2026.it
SUMMARY:Un nido di libri
DESCRIPTION:Percorso didattico per conoscere la Sezione Ragazzi riservato alle scuole dell’infanzia. \nsolo su prenotazione: sangiorgio@comune.pistoia.it
URL:https://pistoiacapitaledellibro2026.it/event/un-nido-di-libri-7/
LOCATION:Biblioteca San Giorgio\, Via Sandro Pertini\, 340\, Pistoia\, PT\, 51100\, Italy
CATEGORIES:Incontri
ATTACH;FMTTYPE=image/jpeg:https://pistoiacapitaledellibro2026.it/wp-content/uploads/2026/01/babyLibri.jpg
END:VEVENT
BEGIN:VEVENT
DTSTART;TZID=Europe/Rome:20260317T210000
DTEND;TZID=Europe/Rome:20260317T223000
DTSTAMP:20260422T002524
CREATED:20260216T141511Z
LAST-MODIFIED:20260226T144920Z
UID:2540-1773781200-1773786600@pistoiacapitaledellibro2026.it
SUMMARY:Il Vangelo secondo Matteo - Lettura integrale a più voci (3)
DESCRIPTION:Quattro incontri in altrettante chiese del centro storico\, in cui la lettura del testo sarà preceduta da una breve introduzione utile a cogliere i contenuti e il contesto di riferimento; nella lettura si alterneranno lettori segnalati dalla Diocesi e da realtà associative presenti in città\, nel desiderio di coinvolgere diverse espressioni della vita cristiana\, culturale e sociale. \na cura della Diocesi di Pistoia e della Parrocchia del Centro Storico \naccesso gratuito\, info: redazione@diocesipistoia.it \nultimo incontro: 24 marzo \nL’iniziativa si propone di offrire una lettura integrale del Vangelo di Matteo suddivisa in 4 incontri: \n\nChiesa di San Bartolomeo – Martedì 3 marzo\nChiesa di San Giovanni Fuorcivitas – Martedì 10 marzo\nChiesa di Sant’Andrea – Martedì 17 marzo\nCattedrale di San Zeno – Martedì 24 marzo\n\nIl ciclo di letture intende far conoscere un testo capitale della cultura universale\, ispiratore\, attraverso due millenni di storia\, di artisti\, letterati\, intellettuali\, semplici donne e uomini. Un testo che non sempre è apprezzato nella sua interezza\, talora soltanto saccheggiato di citazioni o episodi. Gli incontri\, che intendono offrire primariamente un’occasione di ascolto e un invito alla lettura del testo biblico\, sono proposti nelle chiese che custodiscono i pulpiti monumentali della città\, luoghi privilegiati della proclamazione e della “visualizzazione” della parola.
URL:https://pistoiacapitaledellibro2026.it/event/il-vangelo-secondo-matteo-lettura-integrale-a-piu-voci-3/
LOCATION:Chiesa di Sant’Andrea\, Via Sant'Andrea\, 21\, Pistoia\, Pistoia\, 51100
CATEGORIES:Incontri
ATTACH;FMTTYPE=image/jpeg:https://pistoiacapitaledellibro2026.it/wp-content/uploads/2026/02/Cop-Vangelo-secondo-Matteo264.jpg
END:VEVENT
BEGIN:VEVENT
DTSTART;TZID=Europe/Rome:20260317T210000
DTEND;TZID=Europe/Rome:20260317T223000
DTSTAMP:20260422T002524
CREATED:20260216T141226Z
LAST-MODIFIED:20260303T081058Z
UID:2538-1773781200-1773786600@pistoiacapitaledellibro2026.it
SUMMARY:Rumore
DESCRIPTION:spettacolo teatrale ispirato alla storia vera di Giulia Cecchettin \na cura di Società della Salute Pistoiese\, Comune di Pistoia\, Cooperativa Incontro\, in collaborazione con l’Associazione teatrale QUIPROQUO \nnell’occasione sarà distribuito gratuitamente ai presenti il nuovo percorso di lettura della Biblioteca San Giorgio dedicato alle donne \naccesso gratuito su prenotazione sul sito EventBrite \ninfo: info@aiutodonna.info\, tel. 0573 371404
URL:https://pistoiacapitaledellibro2026.it/event/rumore/
LOCATION:PT
CATEGORIES:Teatro
ATTACH;FMTTYPE=image/png:https://pistoiacapitaledellibro2026.it/wp-content/uploads/2026/02/1703-Rumore.png
END:VEVENT
BEGIN:VEVENT
DTSTART;TZID=Europe/Rome:20260317T180000
DTEND;TZID=Europe/Rome:20260317T190000
DTSTAMP:20260422T002524
CREATED:20260216T141021Z
LAST-MODIFIED:20260309T131856Z
UID:2536-1773770400-1773774000@pistoiacapitaledellibro2026.it
SUMMARY:Reading poetico in ambiente sonoro
DESCRIPTION:Nell’ambito del festival Climate Fiction Days\, ideato e diretto da Alessandra Repossi\ncon Laura Pugno\, poeta\, che legge Noi (Amos\, 2020) e Che è bellezza (inedito)\, Gennaro Scarpato\, musicista
URL:https://pistoiacapitaledellibro2026.it/event/reading-poetico-in-ambiente-sonoro/
LOCATION:Palazzo de’ Rossi\, via de’ Rossi 26\, Pistoia\, 51100\, Italy
CATEGORIES:Letture
ATTACH;FMTTYPE=image/jpeg:https://pistoiacapitaledellibro2026.it/wp-content/uploads/2026/02/ClimateFictionDays.jpg
END:VEVENT
BEGIN:VEVENT
DTSTART;TZID=Europe/Rome:20260317T170000
DTEND;TZID=Europe/Rome:20260317T190000
DTSTAMP:20260422T002524
CREATED:20260216T140746Z
LAST-MODIFIED:20260302T164624Z
UID:2533-1773766800-1773774000@pistoiacapitaledellibro2026.it
SUMMARY:Il corpo manda dei messaggi\, impariamo ad ascoltarlo (2)
DESCRIPTION:Ultimo di due incontri per comunicare efficacemente con gli altri e con noi stessi\, disintossicarsi nel corpo fisico ed eterico\, riprogrammare la propria salute. \na cura di Marzia Lucherini\, nutrizionista\, naturopata\, mental-diet Coach\, Operatore Riconnective Healing \naccesso gratuito su prenotazione: corsi.sangiorgio@comune.pistoia.it
URL:https://pistoiacapitaledellibro2026.it/event/il-corpo-manda-dei-messaggi-impariamo-ad-ascoltarlo-2/
LOCATION:Biblioteca San Giorgio\, Via Sandro Pertini\, 340\, Pistoia\, PT\, 51100\, Italy
CATEGORIES:Incontri
ATTACH;FMTTYPE=image/webp:https://pistoiacapitaledellibro2026.it/wp-content/uploads/2026/02/Il-corpo-manda-dei-messaggi.webp
END:VEVENT
BEGIN:VEVENT
DTSTART;TZID=Europe/Rome:20260317T170000
DTEND;TZID=Europe/Rome:20260317T183000
DTSTAMP:20260422T002524
CREATED:20260216T140605Z
LAST-MODIFIED:20260226T120614Z
UID:2531-1773766800-1773772200@pistoiacapitaledellibro2026.it
SUMMARY:Parole che fanno incontrare
DESCRIPTION:Un viaggio nella lettura\, nella fantasia e nell’immaginazione per scoprire e comprendere\nlaboratorio di lettura per famiglie con bambini/e dai 6 ai 10 anni a cura del Servizio Politiche di Inclusione Sociale\, Istituti Raggruppati Azienda Pubblica di Servizi alla Persona\, Intrecci cooperativa sociale\, Manusa cooperativa sociale e dello spazio socio educativo Aquilone in collaborazione con il Centro per le Famiglie di Pistoia \naccesso gratuito su prenotazione: info@centrofamigliepistoia.it
URL:https://pistoiacapitaledellibro2026.it/event/parole-che-fanno-incontrare-3/
LOCATION:Spazio Aquilone\, Via Fernando Santi 1\, Pistoia\, italy\, 51100
CATEGORIES:Letture
ATTACH;FMTTYPE=image/png:https://pistoiacapitaledellibro2026.it/wp-content/uploads/2026/02/centroFamiglie.png
END:VEVENT
BEGIN:VEVENT
DTSTART;TZID=UTC:20260317T170000
DTEND;TZID=UTC:20260317T183000
DTSTAMP:20260422T002524
CREATED:20260216T140519Z
LAST-MODIFIED:20260303T081028Z
UID:2529-1773766800-1773772200@pistoiacapitaledellibro2026.it
SUMMARY:La Storia delle Cinque
DESCRIPTION:Una volta al mese\, una lettura da portare e trasportare in paese\,\nper recuperare il valore culturale del racconto orale. Punto di ritrovo: la scuola dell’infanzia \na cura dei Servizi Educativi del Comune di Pistoia \naccesso gratuito
URL:https://pistoiacapitaledellibro2026.it/event/la-storia-delle-cinque-2/
LOCATION:Scuola dell’infanzia La Favola\, via di Baggio nuova 15\, Villa di Baggio\, Pistoia\, 51100\, Italy
CATEGORIES:Letture
ATTACH;FMTTYPE=image/webp:https://pistoiacapitaledellibro2026.it/wp-content/uploads/2026/02/1703-La-storia-delle-cinque.webp
END:VEVENT
BEGIN:VEVENT
DTSTART;TZID=Europe/Rome:20260317T170000
DTEND;TZID=Europe/Rome:20260317T183000
DTSTAMP:20260422T002524
CREATED:20260216T140417Z
LAST-MODIFIED:20260303T080957Z
UID:2527-1773766800-1773772200@pistoiacapitaledellibro2026.it
SUMMARY:Simonetta Bartolini racconta Sigfrido Bartolini
DESCRIPTION:Un incontro dedicato all’artista pistoiese Sigfrido Bartolini\, incisore\, pittore e scrittore\, con particolare riguardo all’illustrazione della monumentale edizione de Le avventure di Pinocchio pubblicata nel 1983 dalla Fondazione nazionale Carlo Collodi. \na cura dell’Associazione Amici della San Giorgio
URL:https://pistoiacapitaledellibro2026.it/event/simonetta-bartolini-racconta-sigfrido-bartolini/
LOCATION:Biblioteca San Giorgio\, Via Sandro Pertini\, 340\, Pistoia\, PT\, 51100\, Italy
CATEGORIES:Incontri
ATTACH;FMTTYPE=image/jpeg:https://pistoiacapitaledellibro2026.it/wp-content/uploads/2026/02/1703-Simonetta-Bartolini-racconta-Sigfrido-Bartolini.jpg
END:VEVENT
BEGIN:VEVENT
DTSTART;TZID=Europe/Rome:20260317T163000
DTEND;TZID=Europe/Rome:20260317T183000
DTSTAMP:20260422T002524
CREATED:20260216T140241Z
LAST-MODIFIED:20260216T140241Z
UID:2525-1773765000-1773772200@pistoiacapitaledellibro2026.it
SUMMARY:EcoCinema
DESCRIPTION:proiezione di un film a tema ecologico \nprogramma di dettaglio in biblioteca \naccesso gratuito (max 20 posti)
URL:https://pistoiacapitaledellibro2026.it/event/ecocinema-3/
LOCATION:Biblioteca San Giorgio\, Via Sandro Pertini\, 340\, Pistoia\, PT\, 51100\, Italy
CATEGORIES:Cinema
ATTACH;FMTTYPE=image/jpeg:https://pistoiacapitaledellibro2026.it/wp-content/uploads/2026/01/cinema-scaled-e1770897447540.jpg
END:VEVENT
BEGIN:VEVENT
DTSTART;TZID=UTC:20260317T160000
DTEND;TZID=UTC:20260317T170000
DTSTAMP:20260422T002524
CREATED:20260216T140131Z
LAST-MODIFIED:20260216T140131Z
UID:2523-1773763200-1773766800@pistoiacapitaledellibro2026.it
SUMMARY:Arriva il Librobus!
DESCRIPTION:servizio di trasporto gratuito da casa fino in biblioteca (e viceversa) riservato alle persone anziane e non autonome residenti nel Comune di Pistoia \naccoglienza in biblioteca a cura dell’Associazione Amici della San Giorgio
URL:https://pistoiacapitaledellibro2026.it/event/arriva-il-librobus-4/
LOCATION:Biblioteca San Giorgio\, Via Sandro Pertini\, 340\, Pistoia\, PT\, 51100\, Italy
CATEGORIES:Letture
ATTACH;FMTTYPE=image/jpeg:https://pistoiacapitaledellibro2026.it/wp-content/uploads/2025/12/librobus.jpeg
END:VEVENT
BEGIN:VEVENT
DTSTART;TZID=UTC:20260317T113000
DTEND;TZID=UTC:20260317T120000
DTSTAMP:20260422T002524
CREATED:20260216T140048Z
LAST-MODIFIED:20260216T140048Z
UID:2521-1773747000-1773748800@pistoiacapitaledellibro2026.it
SUMMARY:Pistoia Capitale 2026: guida agli eventi della settimana
DESCRIPTION:trasmissione radiofonica condotta da Alessandro Giuntoli con repliche il mercoledì alle 16.30 e il venerdì alle 20 \nanche in digital radio sull’app gratuita della radio\ne sul sito www.radiodiffusionepistoia.it\nSpotify: tinyurl.com/guida2026
URL:https://pistoiacapitaledellibro2026.it/event/pistoia-capitale-2026-guida-agli-eventi-della-settimana-11/
LOCATION:Radio Diffusione Pistoia
CATEGORIES:Incontri
ATTACH;FMTTYPE=image/webp:https://pistoiacapitaledellibro2026.it/wp-content/uploads/2025/12/pistoia-capitale-libro.webp
END:VEVENT
BEGIN:VEVENT
DTSTART;TZID=Europe/Rome:20260317T093000
DTEND;TZID=Europe/Rome:20260317T113000
DTSTAMP:20260422T002524
CREATED:20260216T135942Z
LAST-MODIFIED:20260226T121121Z
UID:2519-1773739800-1773747000@pistoiacapitaledellibro2026.it
SUMMARY:Camminando nel tempo scopriamo come nasce e si trasforma il libro
DESCRIPTION:Rivolto a bambini dall’ultimo anno della scuola materna fino alla V elementare. \nsolo su prenotazione: forteguerriana@comune.pistoia.it
URL:https://pistoiacapitaledellibro2026.it/event/camminando-nel-tempo-scopriamo-come-nasce-e-si-trasforma-il-libro-4/
LOCATION:Biblioteca Forteguerriana\, piazza della Sapienza 5\, Pistoia\, 51100\, Italy
CATEGORIES:Incontri
ATTACH;FMTTYPE=image/jpeg:https://pistoiacapitaledellibro2026.it/wp-content/uploads/2026/02/libriForteguerriana-scaled.jpg
END:VEVENT
BEGIN:VEVENT
DTSTART;TZID=UTC:20260317T090000
DTEND;TZID=UTC:20260317T103000
DTSTAMP:20260422T002524
CREATED:20260216T135902Z
LAST-MODIFIED:20260216T135902Z
UID:2517-1773738000-1773743400@pistoiacapitaledellibro2026.it
SUMMARY:Un nido di libri
DESCRIPTION:Percorso didattico per conoscere la Sezione Ragazzi riservato alle scuole dell’infanzia. \nsolo su prenotazione: sangiorgio@comune.pistoia.it
URL:https://pistoiacapitaledellibro2026.it/event/un-nido-di-libri-6/
LOCATION:Biblioteca San Giorgio\, Via Sandro Pertini\, 340\, Pistoia\, PT\, 51100\, Italy
CATEGORIES:Incontri
ATTACH;FMTTYPE=image/jpeg:https://pistoiacapitaledellibro2026.it/wp-content/uploads/2026/01/babyLibri.jpg
END:VEVENT
BEGIN:VEVENT
DTSTART;TZID=UTC:20260316T210000
DTEND;TZID=UTC:20260316T223000
DTSTAMP:20260422T002524
CREATED:20260129T082123Z
LAST-MODIFIED:20260216T135743Z
UID:1792-1773694800-1773700200@pistoiacapitaledellibro2026.it
SUMMARY:Club del Libro
DESCRIPTION:ogni terzo lunedì del mese ci riuniamo davanti ad un tè e\nad una fetta di torta per parlare del libro scelto durante\nl’appuntamento precedente\, e a fine serata scegliamo\nil titolo per l’incontro successivo. \nIl libro scelto per questo incontro è Il tailleur grigio di Andrea Camilleri. \na cura di Roberta Gamberi \naccesso a pagamento (8 euro) solo su prenotazione: tel. 3498205945
URL:https://pistoiacapitaledellibro2026.it/event/club-del-libro/
LOCATION:Calo di Zuccheri Home Pastry\, via Calvana e Bollacchione II’ tratto 2/A\, Pistoia\, Pistoia\, 51100\, Italy
CATEGORIES:Letture
ATTACH;FMTTYPE=image/jpeg:https://pistoiacapitaledellibro2026.it/wp-content/uploads/2026/01/clubLibro.jpg
END:VEVENT
END:VCALENDAR