BEGIN:VCALENDAR
VERSION:2.0
PRODID:-//Pistoia Capitale Italiana del Libro 2026 - ECPv6.15.12.2//NONSGML v1.0//EN
CALSCALE:GREGORIAN
METHOD:PUBLISH
X-ORIGINAL-URL:https://pistoiacapitaledellibro2026.it
X-WR-CALDESC:Eventi per Pistoia Capitale Italiana del Libro 2026
REFRESH-INTERVAL;VALUE=DURATION:PT1H
X-Robots-Tag:noindex
X-PUBLISHED-TTL:PT1H
BEGIN:VTIMEZONE
TZID:Europe/Rome
BEGIN:DAYLIGHT
TZOFFSETFROM:+0100
TZOFFSETTO:+0200
TZNAME:CEST
DTSTART:20250330T010000
END:DAYLIGHT
BEGIN:STANDARD
TZOFFSETFROM:+0200
TZOFFSETTO:+0100
TZNAME:CET
DTSTART:20251026T010000
END:STANDARD
BEGIN:DAYLIGHT
TZOFFSETFROM:+0100
TZOFFSETTO:+0200
TZNAME:CEST
DTSTART:20260329T010000
END:DAYLIGHT
BEGIN:STANDARD
TZOFFSETFROM:+0200
TZOFFSETTO:+0100
TZNAME:CET
DTSTART:20261025T010000
END:STANDARD
BEGIN:DAYLIGHT
TZOFFSETFROM:+0100
TZOFFSETTO:+0200
TZNAME:CEST
DTSTART:20270328T010000
END:DAYLIGHT
BEGIN:STANDARD
TZOFFSETFROM:+0200
TZOFFSETTO:+0100
TZNAME:CET
DTSTART:20271031T010000
END:STANDARD
END:VTIMEZONE
BEGIN:VTIMEZONE
TZID:UTC
BEGIN:STANDARD
TZOFFSETFROM:+0000
TZOFFSETTO:+0000
TZNAME:UTC
DTSTART:20250101T000000
END:STANDARD
END:VTIMEZONE
BEGIN:VEVENT
DTSTART;TZID=Europe/Rome:20260307T103000
DTEND;TZID=Europe/Rome:20260307T123000
DTSTAMP:20260424T154304
CREATED:20260213T102131Z
LAST-MODIFIED:20260213T102131Z
UID:2313-1772879400-1772886600@pistoiacapitaledellibro2026.it
SUMMARY:Gestione e elaborazione delle immagini con l’intelligenza artificiale
DESCRIPTION:Corso gratuito in 3 lezioni che offre una introduzione all’impiego dell’Intelligenza Artificiale nella elaborazione e creazione delle immagini da utilizzare all’interno di documenti di nostra produzione: testi\, volantini\, pagine web\, post sui social\, etc.. Il corso è rivolto agli adulti residenti nella provincia di Pistoia\, realizzato nell’ambito del progetto “Giovani Adulti In-Formati” finanziato da Regione Toscana a valere sulle risorse del Fondo Sociale Europeo. \nLezioni successive: 14 e 21 marzo 2026 \nIscrizione obbligatoria: fseredop.comune.pistoia.it
URL:https://pistoiacapitaledellibro2026.it/event/gestione-e-elaborazione-delle-immagini-con-lintelligenza-artificiale/
LOCATION:Biblioteca San Giorgio\, Via Sandro Pertini\, 340\, Pistoia\, PT\, 51100\, Italy
CATEGORIES:Corsi
ATTACH;FMTTYPE=image/jpeg:https://pistoiacapitaledellibro2026.it/wp-content/uploads/2025/12/IMG_DIG.jpg
END:VEVENT
BEGIN:VEVENT
DTSTART;TZID=UTC:20260307T103000
DTEND;TZID=UTC:20260307T120000
DTSTAMP:20260424T154304
CREATED:20260213T101704Z
LAST-MODIFIED:20260302T125716Z
UID:2310-1772879400-1772884800@pistoiacapitaledellibro2026.it
SUMMARY:Il succo delle storie: a cena coi mostri!
DESCRIPTION:lettura condivisa del libro La cena dei mostri di Meritxell Martì e Xavier Salomó (Ideeali\, 2019) e laboratorio a tema per bambini da 4 a 7 anni\, con succo di frutta da gustare insieme\, offerto dalla Caffetteria della San Giorgio. \na cura della Libreria Il giardino delle parole e Alessia Migliani \ncon Alice Tesi\, psicologa e biblioterapeuta \naccesso gratuito su prenotazione: am.org.eventi@gmail.com
URL:https://pistoiacapitaledellibro2026.it/event/il-succo-delle-storie-a-cena-coi-mostri/
LOCATION:Biblioteca San Giorgio\, Via Sandro Pertini\, 340\, Pistoia\, PT\, 51100\, Italy
CATEGORIES:Letture
ATTACH;FMTTYPE=image/jpeg:https://pistoiacapitaledellibro2026.it/wp-content/uploads/2026/02/Copertina-libro-La-cena-dei-mostri.jpg
END:VEVENT
BEGIN:VEVENT
DTSTART;TZID=UTC:20260307T100000
DTEND;TZID=UTC:20260307T123000
DTSTAMP:20260424T154304
CREATED:20260213T101520Z
LAST-MODIFIED:20260213T101520Z
UID:2308-1772877600-1772886600@pistoiacapitaledellibro2026.it
SUMMARY:Bancarella “Di libro in libro” - Mattina
DESCRIPTION:prendi un libro\, lascia un’offerta libera \na cura dell’Associazione Amici della San Giorgio
URL:https://pistoiacapitaledellibro2026.it/event/bancarella-di-libro-in-libro-mattina/
LOCATION:Biblioteca San Giorgio\, Via Sandro Pertini\, 340\, Pistoia\, PT\, 51100\, Italy
CATEGORIES:Letture
ATTACH;FMTTYPE=image/jpeg:https://pistoiacapitaledellibro2026.it/wp-content/uploads/2026/01/bancarella-e1770981556841.jpg
END:VEVENT
BEGIN:VEVENT
DTSTART;TZID=UTC:20260307T100000
DTEND;TZID=UTC:20260307T120000
DTSTAMP:20260424T154304
CREATED:20260213T101147Z
LAST-MODIFIED:20260213T101239Z
UID:2304-1772877600-1772884800@pistoiacapitaledellibro2026.it
SUMMARY:Riparti con equilibrio (3)
DESCRIPTION:ultimo di tre incontri che offrono la possibilità di sciogliere lo stress e ritrovare l’equilibrio\, attraverso esercizi semplici e riflessioni guidate \na cura di Alessia Cozzi\, psicoterapeuta ad indirizzo umanistico-bioenergetico\, psicologa del lavoro e dello sport e tecnico di educazione posturale. \naccesso gratuito su prenotazione: corsi.sangiorgio@comune.pistoia.it
URL:https://pistoiacapitaledellibro2026.it/event/riparti-con-equilibrio-3/
LOCATION:Biblioteca San Giorgio\, Via Sandro Pertini\, 340\, Pistoia\, PT\, 51100\, Italy
CATEGORIES:Corsi
ATTACH;FMTTYPE=image/png:https://pistoiacapitaledellibro2026.it/wp-content/uploads/2026/01/RipartiEquilibrio-e1769607531644.png
END:VEVENT
BEGIN:VEVENT
DTSTART;TZID=Europe/Rome:20260307T080000
DTEND;TZID=Europe/Rome:20260307T170000
DTSTAMP:20260424T154304
CREATED:20260213T104627Z
LAST-MODIFIED:20260226T142029Z
UID:2334-1772870400-1772902800@pistoiacapitaledellibro2026.it
SUMMARY:Forse è così che si diventa uomini
DESCRIPTION:In occasione della trasmissione televisiva “Giallo TV”\, condotta da Maurizio Gori e Giuseppe Previti\npresentazione del libro di Giorgia Lepore (e/o\, 2025) \nIn onda sul Canale 14 del DTT \na cura di Giallo Pistoia. Repliche: domenica ore 17.00\, martedì ore 17.00\, giovedì ore 16.00 \ntvl.it/tvl-play/programmi/giallo-pistoia
URL:https://pistoiacapitaledellibro2026.it/event/forse-e-cosi-che-si-diventa-uomini/
LOCATION:TVL\, Pistoia\, 51100\, Italy
CATEGORIES:Presentazioni
ATTACH;FMTTYPE=image/jpeg:https://pistoiacapitaledellibro2026.it/wp-content/uploads/2026/02/diventaUomini.jpg
END:VEVENT
BEGIN:VEVENT
DTSTART;TZID=Europe/Rome:20260306T210000
DTEND;TZID=Europe/Rome:20260306T220000
DTSTAMP:20260424T154304
CREATED:20260213T100838Z
LAST-MODIFIED:20260226T141917Z
UID:2300-1772830800-1772834400@pistoiacapitaledellibro2026.it
SUMMARY:Le parole dell’astronomia
DESCRIPTION:Curiosità e fatti sui termini usati da astronomi\, naviganti\, e tutti coloro che “praticano” il cielo\, con Roberto Tognelli. \nEsploriamo il vocabolario che ha plasmato la nostra comprensione del cosmo. Dal greco antico al latino medievale\, scopriremo come siano nati e si siano evoluti termini come “pianeta”\, “galassia” e “costellazione”\, portando con sé secoli di osservazioni e teorie. Approfondiremo l’etimologia di parole comuni e meno comuni\, svelando aneddoti e curiosità legate alle scoperte scientifiche che le hanno rese celebri. Sarà un percorso affascinante attraverso la storia della scienza e del linguaggio\, per comprendere come le parole abbiano contribuito a svelare i segreti più profondi del cielo stellato. \na cura di WOOASS\, William of Ockham Association | Scienza a Pistoia \naccesso gratuito riservato ai soci ARCI \ninfo: info@woo-ass.org\, tel. 392 9205909
URL:https://pistoiacapitaledellibro2026.it/event/le-parole-dellastronomia/
LOCATION:Circolo ARCI Le Fornaci\, Via del Fornacione\, 52\, Pistoia\, Pistoia\, 51100\, Italy
CATEGORIES:Incontri
ATTACH;FMTTYPE=image/jpeg:https://pistoiacapitaledellibro2026.it/wp-content/uploads/2026/02/Astronomia-greg-rakozy-unsplash-scaled.jpg
END:VEVENT
BEGIN:VEVENT
DTSTART;TZID=Europe/Rome:20260306T193000
DTEND;TZID=Europe/Rome:20260306T200000
DTSTAMP:20260424T154304
CREATED:20260213T100245Z
LAST-MODIFIED:20260302T164315Z
UID:2298-1772825400-1772827200@pistoiacapitaledellibro2026.it
SUMMARY:Tra le righe
DESCRIPTION:rubrica settimanale di presentazione di libri \nogni venerdì le interviste di Simona Priami\, Silvia Cocchini\, Valentina Fiorineschi e Linda Rafanelli all’autore di un libro\,\ncon una edizione “speciale” una volta al mese\, di martedì. \nin onda sul canale 14 del DDT \nArchivio on line delle trasmissioni:\ntvl.it/tvl-play/programmi/tra-le-righe
URL:https://pistoiacapitaledellibro2026.it/event/tra-le-righe/
LOCATION:TVL\, Pistoia\, 51100\, Italy
CATEGORIES:Letture
ATTACH;FMTTYPE=image/webp:https://pistoiacapitaledellibro2026.it/wp-content/uploads/2026/02/Tra-le-righe.webp
END:VEVENT
BEGIN:VEVENT
DTSTART;TZID=Europe/Rome:20260306T190000
DTEND;TZID=Europe/Rome:20260306T203000
DTSTAMP:20260424T154304
CREATED:20260305T100820Z
LAST-MODIFIED:20260305T100820Z
UID:2932-1772823600-1772829000@pistoiacapitaledellibro2026.it
SUMMARY:L'idiota di famiglia
DESCRIPTION:Presentazione del libro di Dario Ferrari (Sellerio\,2026) \nDialoga con l’autore Linda Rafanelli
URL:https://pistoiacapitaledellibro2026.it/event/idiota-di-famiglia/
LOCATION:Libreria Lo Spazio\, via Curtatone e Montanara\, 20\, Pistoia\, italy\, 51100
CATEGORIES:Presentazioni
ATTACH;FMTTYPE=image/jpeg:https://pistoiacapitaledellibro2026.it/wp-content/uploads/2026/03/idiota-di-famiglia.jpg
END:VEVENT
BEGIN:VEVENT
DTSTART;TZID=Europe/Rome:20260306T173000
DTEND;TZID=Europe/Rome:20260306T193000
DTSTAMP:20260424T154304
CREATED:20260213T095738Z
LAST-MODIFIED:20260213T095738Z
UID:2296-1772818200-1772825400@pistoiacapitaledellibro2026.it
SUMMARY:Lezione su Antonio Tabucchi
DESCRIPTION:Per il ciclo “Lezioni dei tre scrittori finalisti al Premio Ceppo 2026”\ndi Marta Cristofanini\, seconda finalista del Ceppo Racconto con Selenide (Racconti edizioni\, 2025)\, interviene Filiberto Segatto \nin collaborazione con Premio Ceppo 2026 \naccesso gratuito
URL:https://pistoiacapitaledellibro2026.it/event/lezione-su-antonio-tabucchi/
LOCATION:Libreria Lo Spazio\, via Curtatone e Montanara\, 20\, Pistoia\, italy\, 51100
CATEGORIES:Incontri
ATTACH;FMTTYPE=image/jpeg:https://pistoiacapitaledellibro2026.it/wp-content/uploads/2026/01/lospazio-img6.jpeg
END:VEVENT
BEGIN:VEVENT
DTSTART;TZID=Europe/Rome:20260306T173000
DTEND;TZID=Europe/Rome:20260306T190000
DTSTAMP:20260424T154304
CREATED:20260213T095504Z
LAST-MODIFIED:20260226T141640Z
UID:2294-1772818200-1772823600@pistoiacapitaledellibro2026.it
SUMMARY:L'arnica di Bruno
DESCRIPTION:presentazione del libro di Lucia Focarelli (Effigi\, 2026) \ncon Giuseppe Previti e Maurizio Gori \na cura dell’Associazione Giallo Pistoia \naccesso gratuito
URL:https://pistoiacapitaledellibro2026.it/event/larnica-di-bruno/
LOCATION:Biblioteca San Giorgio\, Via Sandro Pertini\, 340\, Pistoia\, PT\, 51100\, Italy
CATEGORIES:Presentazioni
ATTACH;FMTTYPE=image/jpeg:https://pistoiacapitaledellibro2026.it/wp-content/uploads/2026/02/arnica-di-bruno.jpg
END:VEVENT
BEGIN:VEVENT
DTSTART;TZID=Europe/Rome:20260306T170000
DTEND;TZID=Europe/Rome:20260412T190000
DTSTAMP:20260424T154304
CREATED:20260213T094743Z
LAST-MODIFIED:20260226T141313Z
UID:2288-1772816400-1776020400@pistoiacapitaledellibro2026.it
SUMMARY:Donne in bilico - Mostra fotografica
DESCRIPTION:Mostra fotografica di Anna Alberghina\nNell’ambito delle iniziative organizzate dal Comune di Pistoia per la “Giornata Internazionale della Donna 2026”\nMostra fotografica a cura di Marta Cugnasca\, per dare voce e volto a donne appartenenti a culture antiche provenienti dai luoghi più impervi e sconosciuti del mondo. \n40 scatti della fotografa africanista e viaggiatrice Anna Alberghina che\, nel corso di una vita di esplorazioni in tutto il mondo\, ha raccolto queste immagini intense ed evocative che raccontano ognuna la storia di un popolo. \nin collaborazione con Museo d’Arte e Scienza Associazione ETS di \nMilano e Associazione culturale Donne Vive di Milano \naccesso gratuito \nla mostra è visitabile dal 6 marzo al 12 aprile 2026 nel seguente orario: \n\nda martedì a venerdì: ore 10.00-12.00 e 15.00-18.00;\nsabato e domenica: ore 10.00-12.00 e 15.00-17.00;\nchiuso il lunedì\n\ninfo: Ufficio Cultura del Comune di Pistoia\, cultura@comune.pistoia.it
URL:https://pistoiacapitaledellibro2026.it/event/donne-in-bilico-2/
LOCATION:Palazzo Comunale\, piazza Duomo 1\, Pistoia\, 51100\, Italy
CATEGORIES:Mostre
ATTACH;FMTTYPE=image/png:https://pistoiacapitaledellibro2026.it/wp-content/uploads/2026/02/giornataDonna.png
END:VEVENT
BEGIN:VEVENT
DTSTART;TZID=Europe/Rome:20260306T170000
DTEND;TZID=Europe/Rome:20260306T190000
DTSTAMP:20260424T154304
CREATED:20260213T094428Z
LAST-MODIFIED:20260226T140801Z
UID:2284-1772816400-1772823600@pistoiacapitaledellibro2026.it
SUMMARY:Donne in bilico - Inaugurazione della mostra fotografica
DESCRIPTION:Inaugurazione della mostra fotografica di Anna Alberghina\nNell’ambito delle iniziative organizzate dal Comune di Pistoia per la “Giornata Internazionale della Donna 2026”\nMostra fotografica a cura di Marta Cugnasca\, per dare voce e volto a donne appartenenti a culture antiche provenienti dai luoghi più impervi e sconosciuti del mondo. \n40 scatti della fotografa africanista e viaggiatrice Anna Alberghina che\, nel corso di una vita di esplorazioni in tutto il mondo\, ha raccolto queste immagini intense ed evocative che raccontano ognuna la storia di un popolo. \nin collaborazione con Museo d’Arte e Scienza Associazione ETS di \nMilano e Associazione culturale Donne Vive di Milano \naccesso gratuito \nla mostra è visitabile dal 6 marzo al 12 aprile 2026 nel seguente orario: \n\nda martedì a venerdì: ore 10.00-12.00 e 15.00-18.00;\nsabato e domenica: ore 10.00-12.00 e 15.00-17.00;\nchiuso il lunedì\n\ninfo: Ufficio Cultura del Comune di Pistoia\, cultura@comune.pistoia.it
URL:https://pistoiacapitaledellibro2026.it/event/donne-in-bilico/
LOCATION:Palazzo Comunale\, piazza Duomo 1\, Pistoia\, 51100\, Italy
CATEGORIES:Incontri
ATTACH;FMTTYPE=image/png:https://pistoiacapitaledellibro2026.it/wp-content/uploads/2026/02/giornataDonna.png
END:VEVENT
BEGIN:VEVENT
DTSTART;TZID=Europe/Rome:20260306T170000
DTEND;TZID=Europe/Rome:20260306T183000
DTSTAMP:20260424T154304
CREATED:20260213T093508Z
LAST-MODIFIED:20260302T163150Z
UID:2280-1772816400-1772821800@pistoiacapitaledellibro2026.it
SUMMARY:Donne nella storia
DESCRIPTION:impariamo la storia con le sue protagoniste femminili\, fra scoperte e curiosità \na cura del Comitato Genitori della Scuola Primaria Leonardo da Vinci e dell’Associazione Voglia di Vivere \naccesso gratuito su prenotazione: tel. 339 7192262 \netà consigliata: 6-12 anni\, max. 20 partecipanti
URL:https://pistoiacapitaledellibro2026.it/event/donne-nella-storia/
LOCATION:Associazione Voglia di Vivere\, Via Giuseppe Gentile\, 40/D-E\, Pistoia\, Pistoia\, 51100\, Italy
CATEGORIES:Incontri
ATTACH;FMTTYPE=image/webp:https://pistoiacapitaledellibro2026.it/wp-content/uploads/2026/02/0603-Donne-nella-storia.webp
END:VEVENT
BEGIN:VEVENT
DTSTART;TZID=UTC:20260306T170000
DTEND;TZID=UTC:20260306T183000
DTSTAMP:20260424T154304
CREATED:20260213T092702Z
LAST-MODIFIED:20260213T092918Z
UID:2278-1772816400-1772821800@pistoiacapitaledellibro2026.it
SUMMARY:Film per bambini
DESCRIPTION:proiezione riservata ai bambini accompagnati da un genitore \nprogramma di dettaglio in biblioteca \naccesso gratuito su prenotazione: corsi.sangiorgio@comune.pistoia.it
URL:https://pistoiacapitaledellibro2026.it/event/film-per-bambini-5/
LOCATION:Biblioteca San Giorgio\, Via Sandro Pertini\, 340\, Pistoia\, PT\, 51100\, Italy
CATEGORIES:Cinema
ATTACH;FMTTYPE=image/jpeg:https://pistoiacapitaledellibro2026.it/wp-content/uploads/2025/12/film-bambini.jpeg
END:VEVENT
BEGIN:VEVENT
DTSTART;TZID=Europe/Rome:20260306T093000
DTEND;TZID=Europe/Rome:20260306T113000
DTSTAMP:20260424T154304
CREATED:20260213T092155Z
LAST-MODIFIED:20260213T092229Z
UID:2272-1772789400-1772796600@pistoiacapitaledellibro2026.it
SUMMARY:Bambini come noi... di un secolo fa.
DESCRIPTION:Dai quaderni della “Scuola in mostra” del 1929 scopriamo vecchi mestieri e tradizioni\nRivolto a bambini dal secondo anno della scuola materna fino alla V elementare. \nsolo su prenotazione: forteguerriana@comune.pistoia.it
URL:https://pistoiacapitaledellibro2026.it/event/bambini-come-noi-di-un-secolo-fa/
LOCATION:Biblioteca Forteguerriana\, piazza della Sapienza 5\, Pistoia\, 51100\, Italy
CATEGORIES:Incontri
ATTACH;FMTTYPE=image/jpeg:https://pistoiacapitaledellibro2026.it/wp-content/uploads/2026/01/N0Z0644.jpeg
END:VEVENT
BEGIN:VEVENT
DTSTART;TZID=Europe/Rome:20260306T090000
DTEND;TZID=Europe/Rome:20260306T130000
DTSTAMP:20260424T154304
CREATED:20260213T091918Z
LAST-MODIFIED:20260213T091918Z
UID:2270-1772787600-1772802000@pistoiacapitaledellibro2026.it
SUMMARY:Inclusive design: guida per siti web\, app e prodotti digitali accessibili e a norma
DESCRIPTION:presentazione del libro di Enrico Bisenzi (Apogeo\, 2024) \npercorso didattico in collaborazione con le classi quarte dell’Istituto Tecnico Tecnologico Statale “Fedi-Fermi” di Pistoia
URL:https://pistoiacapitaledellibro2026.it/event/inclusive-design-guida-per-siti-web-app-e-prodotti-digitali-accessibili-e-a-norma/
LOCATION:Biblioteca San Giorgio\, Via Sandro Pertini\, 340\, Pistoia\, PT\, 51100\, Italy
CATEGORIES:Presentazioni
ATTACH;FMTTYPE=image/webp:https://pistoiacapitaledellibro2026.it/wp-content/uploads/2025/12/Pistoia26-5.webp
END:VEVENT
BEGIN:VEVENT
DTSTART;TZID=UTC:20260306T090000
DTEND;TZID=UTC:20260306T103000
DTSTAMP:20260424T154304
CREATED:20260213T091625Z
LAST-MODIFIED:20260213T091625Z
UID:2268-1772787600-1772793000@pistoiacapitaledellibro2026.it
SUMMARY:Piano piano\, per conoscere la biblioteca
DESCRIPTION:percorso didattico alla scoperta della sezione ragazzi riservato alle classi della scuola primaria \nsolo su prenotazione: sangiorgio@comune.pistoia.it
URL:https://pistoiacapitaledellibro2026.it/event/piano-piano-per-conoscere-la-biblioteca-5/
LOCATION:Biblioteca San Giorgio\, Via Sandro Pertini\, 340\, Pistoia\, PT\, 51100\, Italy
CATEGORIES:Incontri
ATTACH;FMTTYPE=image/jpeg:https://pistoiacapitaledellibro2026.it/wp-content/uploads/2026/01/PianoPiano.jpg
END:VEVENT
BEGIN:VEVENT
DTSTART;TZID=Europe/Rome:20260305T173000
DTEND;TZID=Europe/Rome:20260305T193000
DTSTAMP:20260424T154304
CREATED:20260213T091059Z
LAST-MODIFIED:20260226T140416Z
UID:2266-1772731800-1772739000@pistoiacapitaledellibro2026.it
SUMMARY:Dovrò prepararmi a fiorire. Poetesse iraniane dal Novecento ad oggi
DESCRIPTION:Reading poetico libero del Gruppo di lettura poetica della libreria\, a partire dall’omonimo libro (Anima Mundi\, 2025) \na cura di Laura Nanni e Libreria Il giardino delle parole \naccesso gratuito e aperto a tutti \ninfo: tel. 388 8636533
URL:https://pistoiacapitaledellibro2026.it/event/dovro-prepararmi-a-fiorire-poetesse-iraniane-dal-novecento-ad-oggi/
LOCATION:Libreria Il giardino delle parole\, via Pagliucola 115\, Pistoia\, Pistoia\, 51100\, Italy
CATEGORIES:Letture
ATTACH;FMTTYPE=image/jpeg:https://pistoiacapitaledellibro2026.it/wp-content/uploads/2026/02/poetesseIran.jpg
END:VEVENT
BEGIN:VEVENT
DTSTART;TZID=Europe/Rome:20260305T173000
DTEND;TZID=Europe/Rome:20260305T190000
DTSTAMP:20260424T154304
CREATED:20260213T090557Z
LAST-MODIFIED:20260302T164444Z
UID:2264-1772731800-1772737200@pistoiacapitaledellibro2026.it
SUMMARY:Dialogare con la migliore versione di te (1)
DESCRIPTION:Dialogo interiore attraverso la mente\nPrimo di tre incontri per imparare a rileggere e raccontare la propria esperienza in modo più consapevole e flessibile \na cura di Cristiana Ferrara\, psicologa psicoterapeuta \naccesso gratuito su prenotazione: corsi.sangiorgio@comune.pistoia.it \nincontri successivi: 19 e 26 marzo 2026
URL:https://pistoiacapitaledellibro2026.it/event/dialogare-con-la-migliore-versione-di-te-1/
LOCATION:Biblioteca San Giorgio\, Via Sandro Pertini\, 340\, Pistoia\, PT\, 51100\, Italy
CATEGORIES:Corsi
ATTACH;FMTTYPE=image/jpeg:https://pistoiacapitaledellibro2026.it/wp-content/uploads/2026/02/Dialogare-con-la-migliore-versione-di-te.jpg
END:VEVENT
BEGIN:VEVENT
DTSTART;TZID=Europe/Rome:20260305T170000
DTEND;TZID=Europe/Rome:20260305T190000
DTSTAMP:20260424T154304
CREATED:20260213T090341Z
LAST-MODIFIED:20260226T140110Z
UID:2262-1772730000-1772737200@pistoiacapitaledellibro2026.it
SUMMARY:I mutamenti costituzionali
DESCRIPTION:Riflessioni sul rapporto fra trasformazioni storico-sociali e proposte di modifica della Costituzione. \ncoordina Domenico Santagati\, intervengono Giovanni Tarli Barbieri\, docente di diritto costituzionale e pubblico all’Università di Firenze\, e Luca Mannori\, docente di storia delle istituzioni politiche all’Università di Firenze. \na cura dell’Istituto Storico della Resistenza e dell’Età Contemporanea in provincia di Pistoia \naccesso gratuito
URL:https://pistoiacapitaledellibro2026.it/event/i-mutamenti-costituzionali/
LOCATION:Biblioteca San Giorgio\, Via Sandro Pertini\, 340\, Pistoia\, PT\, 51100\, Italy
CATEGORIES:Incontri
ATTACH;FMTTYPE=image/jpeg:https://pistoiacapitaledellibro2026.it/wp-content/uploads/2026/02/18-COSTITUZIONE-ITALIANA.jpg
END:VEVENT
BEGIN:VEVENT
DTSTART;TZID=Europe/Rome:20260305T163000
DTEND;TZID=Europe/Rome:20260305T183000
DTSTAMP:20260424T154304
CREATED:20260213T085941Z
LAST-MODIFIED:20260213T085941Z
UID:2258-1772728200-1772735400@pistoiacapitaledellibro2026.it
SUMMARY:Il cinema delle donne
DESCRIPTION:proiezione di un film in omaggio ad una professionista della settima arte \nprogramma di dettaglio in biblioteca \naccesso gratuito (max. 20 posti)
URL:https://pistoiacapitaledellibro2026.it/event/il-cinema-delle-donne/
LOCATION:Biblioteca San Giorgio\, Via Sandro Pertini\, 340\, Pistoia\, PT\, 51100\, Italy
CATEGORIES:Cinema
ATTACH;FMTTYPE=image/jpeg:https://pistoiacapitaledellibro2026.it/wp-content/uploads/2026/01/cinema-scaled-e1770897447540.jpg
END:VEVENT
BEGIN:VEVENT
DTSTART;TZID=UTC:20260305T160000
DTEND;TZID=UTC:20260305T190000
DTSTAMP:20260424T154304
CREATED:20260213T090107Z
LAST-MODIFIED:20260213T090107Z
UID:2260-1772726400-1772737200@pistoiacapitaledellibro2026.it
SUMMARY:Scacco al re
DESCRIPTION:Una pausa di gioco tra una lettura e l’altra \na cura dell’Associazione Amici della San Giorgio
URL:https://pistoiacapitaledellibro2026.it/event/scacco-al-re-18/
LOCATION:Biblioteca San Giorgio\, Via Sandro Pertini\, 340\, Pistoia\, PT\, 51100\, Italy
CATEGORIES:Giochi
ATTACH;FMTTYPE=image/webp:https://pistoiacapitaledellibro2026.it/wp-content/uploads/2025/12/scacco-al-re.webp
END:VEVENT
BEGIN:VEVENT
DTSTART;TZID=Europe/Rome:20260305T160000
DTEND;TZID=Europe/Rome:20260305T183000
DTSTAMP:20260424T154304
CREATED:20260213T085819Z
LAST-MODIFIED:20260226T135446Z
UID:2256-1772726400-1772735400@pistoiacapitaledellibro2026.it
SUMMARY:Il velo di Lucrezia
DESCRIPTION:Incontro del gruppo di lettura “Passeggiate Narrative” sul libro di Carla Maria Russo\, in preparazione dell’evento del 27 marzo. \na cura dell’Associazione Amici della San Giorgio
URL:https://pistoiacapitaledellibro2026.it/event/il-velo-di-lucrezia/
LOCATION:Biblioteca San Giorgio\, Via Sandro Pertini\, 340\, Pistoia\, PT\, 51100\, Italy
CATEGORIES:Incontri
ATTACH;FMTTYPE=image/jpeg:https://pistoiacapitaledellibro2026.it/wp-content/uploads/2026/02/veloLucrezia.jpg
END:VEVENT
BEGIN:VEVENT
DTSTART;TZID=Europe/Rome:20260305T160000
DTEND;TZID=Europe/Rome:20260305T173000
DTSTAMP:20260424T154304
CREATED:20260213T085635Z
LAST-MODIFIED:20260226T141342Z
UID:2254-1772726400-1772731800@pistoiacapitaledellibro2026.it
SUMMARY:Donne e diritto nella storia. Dai primi codici dell’umanità ai giorni nostri
DESCRIPTION:Nell’ambito delle iniziative organizzate dal Comune di Pistoia per la “Giornata Internazionale della Donna 2026”\nconferenza a cura di Antonio Lo Conte \naccesso gratuito\, max. 35 persone
URL:https://pistoiacapitaledellibro2026.it/event/donne-e-diritto-nella-storia-dai-primi-codici-dellumanita-ai-giorni-nostri/
LOCATION:Biblioteca Forteguerriana\, piazza della Sapienza 5\, Pistoia\, 51100\, Italy
CATEGORIES:Incontri
ATTACH;FMTTYPE=image/png:https://pistoiacapitaledellibro2026.it/wp-content/uploads/2026/02/giornataDonna.png
END:VEVENT
BEGIN:VEVENT
DTSTART;TZID=UTC:20260305T090000
DTEND;TZID=UTC:20260305T103000
DTSTAMP:20260424T154304
CREATED:20260213T085335Z
LAST-MODIFIED:20260213T085335Z
UID:2252-1772701200-1772706600@pistoiacapitaledellibro2026.it
SUMMARY:Senza parole!
DESCRIPTION:Percorso didattico alla scoperta dei “silent books” riservato alle classi della scuola dell’infanzia e della primaria. \nsolo su prenotazione: sangiorgio@comune.pistoia.it
URL:https://pistoiacapitaledellibro2026.it/event/senza-parole-9/
LOCATION:Biblioteca San Giorgio\, Via Sandro Pertini\, 340\, Pistoia\, PT\, 51100\, Italy
CATEGORIES:Incontri
ATTACH;FMTTYPE=image/jpeg:https://pistoiacapitaledellibro2026.it/wp-content/uploads/2026/01/SenzaParole.jpg
END:VEVENT
BEGIN:VEVENT
DTSTART;TZID=Europe/Rome:20260304T173000
DTEND;TZID=Europe/Rome:20260304T190000
DTSTAMP:20260424T154304
CREATED:20260213T082707Z
LAST-MODIFIED:20260226T121335Z
UID:2235-1772645400-1772650800@pistoiacapitaledellibro2026.it
SUMMARY:Un tè con l’Arte: vestirsi nei secoli tra funzionalità e moda - incontro del pomeriggio
DESCRIPTION:Attraverso le più belle opere d’arte\, le riviste di moda\, i libri e i campionari\, parleremo di come ci si vestiva nei secoli passati: esigenze e gusto si intrecciano in uno dei più eloquenti specchi della società. Qualche dolcetto e un tè o un caffè accompagneranno il corso \na cura di Caterina Bellezza \nprossime date: 11\, 18\, 25 marzo e 1 aprile \naccesso a pagamento: 50 euro intero ciclo di incontri\, 12 euro lezione singola \nprenotazione obbligatoria: caterina.bellezza@gmail.com\, tel. 3200768294
URL:https://pistoiacapitaledellibro2026.it/event/un-te-con-larte-vestirsi-nei-secoli-tra-funzionalita-e-moda-2/
LOCATION:Lo Studiolo di Caterina Bellezza\, Via dei Bacchettoni\, 6\, Pistoia\, Pistoia\, 51100\, Italy
CATEGORIES:Incontri
ATTACH;FMTTYPE=image/jpeg:https://pistoiacapitaledellibro2026.it/wp-content/uploads/2026/02/loStudiolo.jpg
END:VEVENT
BEGIN:VEVENT
DTSTART;TZID=Europe/Rome:20260304T170000
DTEND;TZID=Europe/Rome:20260304T190000
DTSTAMP:20260424T154304
CREATED:20260213T085105Z
LAST-MODIFIED:20260213T085105Z
UID:2249-1772643600-1772650800@pistoiacapitaledellibro2026.it
SUMMARY:Chi è di scena? Franco Cecchi
DESCRIPTION:pomeriggio in memoria di Franco Checchi \na cura dell’Associazione Giallo Pistoia \naccesso gratuito
URL:https://pistoiacapitaledellibro2026.it/event/chi-e-di-scena-franco-cecchi/
LOCATION:Palazzo de’ Rossi\, via de’ Rossi 26\, Pistoia\, 51100\, Italy
CATEGORIES:Incontri
ATTACH;FMTTYPE=image/webp:https://pistoiacapitaledellibro2026.it/wp-content/uploads/2026/02/palazzo-de-rossi.webp
END:VEVENT
BEGIN:VEVENT
DTSTART;TZID=Europe/Rome:20260304T170000
DTEND;TZID=Europe/Rome:20260304T190000
DTSTAMP:20260424T154304
CREATED:20260213T084339Z
LAST-MODIFIED:20260213T084339Z
UID:2247-1772643600-1772650800@pistoiacapitaledellibro2026.it
SUMMARY:Direttore o Direttrice? A che punto siamo in materia di parità di genere
DESCRIPTION:Corso gratuito in 2 lezioni che offriranno ai partecipanti l’opportunità di ripercorrere l’intenso itinerario che nella cultura italiana si è dipanato negli ultimi vent’anni in tema di uguaglianza di genere nel linguaggio. Il corso è rivolto agli adulti residenti nella provincia di Pistoia\, realizzato nell’ambito del progetto “Giovani Adulti In-Formati” finanziato da Regione Toscana a valere sulle risorse del Fondo Sociale Europeo. \nlezione successiva: 11 marzo 2026 \niscrizione obbligatoria: fseredop.comune.pistoia.it
URL:https://pistoiacapitaledellibro2026.it/event/direttore-o-direttrice-a-che-punto-siamo-in-materia-di-parita-di-genere/
LOCATION:Biblioteca San Giorgio\, Via Sandro Pertini\, 340\, Pistoia\, PT\, 51100\, Italy
CATEGORIES:Corsi
ATTACH;FMTTYPE=image/webp:https://pistoiacapitaledellibro2026.it/wp-content/uploads/2026/02/corsi.webp
END:VEVENT
BEGIN:VEVENT
DTSTART;TZID=Europe/Rome:20260304T170000
DTEND;TZID=Europe/Rome:20260304T183000
DTSTAMP:20260424T154304
CREATED:20260213T084008Z
LAST-MODIFIED:20260226T121705Z
UID:2245-1772643600-1772649000@pistoiacapitaledellibro2026.it
SUMMARY:Meravigliandosi dei luoghi comuni
DESCRIPTION:Raccontare il quartiere attraverso la fotografia\, le storie e gli sguardi\niniziativa dedicata a giovani dai 14 ai 19 anni \na cura del Servizio Politiche di Inclusione Sociale\, Istituti Raggruppati\, Azienda Pubblica di Servizi alla Persona\, Intrecci cooperativa sociale\, Manusa cooperativa sociale e del Centro di Aggregazione Giovanile “Sotto il Palazzo” \nin collaborazione con Nub Project Space \naccesso gratuito su prenotazione: sottoilpalazzo@intreccicoop.it
URL:https://pistoiacapitaledellibro2026.it/event/meravigliandosi-dei-luoghi-comuni/
LOCATION:Sotto il Palazzo\, piazza Nelson Mandela\, Pistoia\, 51100\, Italy
CATEGORIES:Incontri
ATTACH;FMTTYPE=image/png:https://pistoiacapitaledellibro2026.it/wp-content/uploads/2026/02/intrecci-logo.png
END:VEVENT
BEGIN:VEVENT
DTSTART;TZID=Europe/Rome:20260304T160000
DTEND;TZID=Europe/Rome:20260304T183000
DTSTAMP:20260424T154304
CREATED:20260213T083617Z
LAST-MODIFIED:20260213T083617Z
UID:2243-1772640000-1772649000@pistoiacapitaledellibro2026.it
SUMMARY:Omaggio a Tom Cruise\, Oscar alla carriera 2026
DESCRIPTION:Proiezione di un’opera tratta dalla sua filmografia \na cura di YouLab Pistoia. An American Corner \nprogramma di dettaglio in biblioteca \naccesso gratuito (max. 20 persone)
URL:https://pistoiacapitaledellibro2026.it/event/omaggio-a-tom-cruise-oscar-alla-carriera-2026/
LOCATION:Biblioteca San Giorgio\, Via Sandro Pertini\, 340\, Pistoia\, PT\, 51100\, Italy
CATEGORIES:Cinema
ATTACH;FMTTYPE=image/jpeg:https://pistoiacapitaledellibro2026.it/wp-content/uploads/2026/01/cinema-scaled-e1770897447540.jpg
END:VEVENT
END:VCALENDAR