BEGIN:VCALENDAR
VERSION:2.0
PRODID:-//Pistoia Capitale Italiana del Libro 2026 - ECPv6.15.12.2//NONSGML v1.0//EN
CALSCALE:GREGORIAN
METHOD:PUBLISH
X-WR-CALNAME:Pistoia Capitale Italiana del Libro 2026
X-ORIGINAL-URL:https://pistoiacapitaledellibro2026.it
X-WR-CALDESC:Eventi per Pistoia Capitale Italiana del Libro 2026
REFRESH-INTERVAL;VALUE=DURATION:PT1H
X-Robots-Tag:noindex
X-PUBLISHED-TTL:PT1H
BEGIN:VTIMEZONE
TZID:UTC
BEGIN:STANDARD
TZOFFSETFROM:+0000
TZOFFSETTO:+0000
TZNAME:UTC
DTSTART:20250101T000000
END:STANDARD
END:VTIMEZONE
BEGIN:VTIMEZONE
TZID:Europe/Rome
BEGIN:DAYLIGHT
TZOFFSETFROM:+0100
TZOFFSETTO:+0200
TZNAME:CEST
DTSTART:20250330T010000
END:DAYLIGHT
BEGIN:STANDARD
TZOFFSETFROM:+0200
TZOFFSETTO:+0100
TZNAME:CET
DTSTART:20251026T010000
END:STANDARD
BEGIN:DAYLIGHT
TZOFFSETFROM:+0100
TZOFFSETTO:+0200
TZNAME:CEST
DTSTART:20260329T010000
END:DAYLIGHT
BEGIN:STANDARD
TZOFFSETFROM:+0200
TZOFFSETTO:+0100
TZNAME:CET
DTSTART:20261025T010000
END:STANDARD
BEGIN:DAYLIGHT
TZOFFSETFROM:+0100
TZOFFSETTO:+0200
TZNAME:CEST
DTSTART:20270328T010000
END:DAYLIGHT
BEGIN:STANDARD
TZOFFSETFROM:+0200
TZOFFSETTO:+0100
TZNAME:CET
DTSTART:20271031T010000
END:STANDARD
END:VTIMEZONE
BEGIN:VEVENT
DTSTART;TZID=UTC:20260305T160000
DTEND;TZID=UTC:20260305T190000
DTSTAMP:20260424T191640
CREATED:20260213T090107Z
LAST-MODIFIED:20260213T090107Z
UID:2260-1772726400-1772737200@pistoiacapitaledellibro2026.it
SUMMARY:Scacco al re
DESCRIPTION:Una pausa di gioco tra una lettura e l’altra \na cura dell’Associazione Amici della San Giorgio
URL:https://pistoiacapitaledellibro2026.it/event/scacco-al-re-18/
LOCATION:Biblioteca San Giorgio\, Via Sandro Pertini\, 340\, Pistoia\, PT\, 51100\, Italy
CATEGORIES:Giochi
ATTACH;FMTTYPE=image/webp:https://pistoiacapitaledellibro2026.it/wp-content/uploads/2025/12/scacco-al-re.webp
END:VEVENT
BEGIN:VEVENT
DTSTART;TZID=Europe/Rome:20260305T160000
DTEND;TZID=Europe/Rome:20260305T183000
DTSTAMP:20260424T191640
CREATED:20260213T085819Z
LAST-MODIFIED:20260226T135446Z
UID:2256-1772726400-1772735400@pistoiacapitaledellibro2026.it
SUMMARY:Il velo di Lucrezia
DESCRIPTION:Incontro del gruppo di lettura “Passeggiate Narrative” sul libro di Carla Maria Russo\, in preparazione dell’evento del 27 marzo. \na cura dell’Associazione Amici della San Giorgio
URL:https://pistoiacapitaledellibro2026.it/event/il-velo-di-lucrezia/
LOCATION:Biblioteca San Giorgio\, Via Sandro Pertini\, 340\, Pistoia\, PT\, 51100\, Italy
CATEGORIES:Incontri
ATTACH;FMTTYPE=image/jpeg:https://pistoiacapitaledellibro2026.it/wp-content/uploads/2026/02/veloLucrezia.jpg
END:VEVENT
BEGIN:VEVENT
DTSTART;TZID=Europe/Rome:20260305T160000
DTEND;TZID=Europe/Rome:20260305T173000
DTSTAMP:20260424T191640
CREATED:20260213T085635Z
LAST-MODIFIED:20260226T141342Z
UID:2254-1772726400-1772731800@pistoiacapitaledellibro2026.it
SUMMARY:Donne e diritto nella storia. Dai primi codici dell’umanità ai giorni nostri
DESCRIPTION:Nell’ambito delle iniziative organizzate dal Comune di Pistoia per la “Giornata Internazionale della Donna 2026”\nconferenza a cura di Antonio Lo Conte \naccesso gratuito\, max. 35 persone
URL:https://pistoiacapitaledellibro2026.it/event/donne-e-diritto-nella-storia-dai-primi-codici-dellumanita-ai-giorni-nostri/
LOCATION:Biblioteca Forteguerriana\, piazza della Sapienza 5\, Pistoia\, 51100\, Italy
CATEGORIES:Incontri
ATTACH;FMTTYPE=image/png:https://pistoiacapitaledellibro2026.it/wp-content/uploads/2026/02/giornataDonna.png
END:VEVENT
BEGIN:VEVENT
DTSTART;TZID=UTC:20260305T090000
DTEND;TZID=UTC:20260305T103000
DTSTAMP:20260424T191640
CREATED:20260213T085335Z
LAST-MODIFIED:20260213T085335Z
UID:2252-1772701200-1772706600@pistoiacapitaledellibro2026.it
SUMMARY:Senza parole!
DESCRIPTION:Percorso didattico alla scoperta dei “silent books” riservato alle classi della scuola dell’infanzia e della primaria. \nsolo su prenotazione: sangiorgio@comune.pistoia.it
URL:https://pistoiacapitaledellibro2026.it/event/senza-parole-9/
LOCATION:Biblioteca San Giorgio\, Via Sandro Pertini\, 340\, Pistoia\, PT\, 51100\, Italy
CATEGORIES:Incontri
ATTACH;FMTTYPE=image/jpeg:https://pistoiacapitaledellibro2026.it/wp-content/uploads/2026/01/SenzaParole.jpg
END:VEVENT
BEGIN:VEVENT
DTSTART;TZID=Europe/Rome:20260304T173000
DTEND;TZID=Europe/Rome:20260304T190000
DTSTAMP:20260424T191640
CREATED:20260213T082707Z
LAST-MODIFIED:20260226T121335Z
UID:2235-1772645400-1772650800@pistoiacapitaledellibro2026.it
SUMMARY:Un tè con l’Arte: vestirsi nei secoli tra funzionalità e moda - incontro del pomeriggio
DESCRIPTION:Attraverso le più belle opere d’arte\, le riviste di moda\, i libri e i campionari\, parleremo di come ci si vestiva nei secoli passati: esigenze e gusto si intrecciano in uno dei più eloquenti specchi della società. Qualche dolcetto e un tè o un caffè accompagneranno il corso \na cura di Caterina Bellezza \nprossime date: 11\, 18\, 25 marzo e 1 aprile \naccesso a pagamento: 50 euro intero ciclo di incontri\, 12 euro lezione singola \nprenotazione obbligatoria: caterina.bellezza@gmail.com\, tel. 3200768294
URL:https://pistoiacapitaledellibro2026.it/event/un-te-con-larte-vestirsi-nei-secoli-tra-funzionalita-e-moda-2/
LOCATION:Lo Studiolo di Caterina Bellezza\, Via dei Bacchettoni\, 6\, Pistoia\, Pistoia\, 51100\, Italy
CATEGORIES:Incontri
ATTACH;FMTTYPE=image/jpeg:https://pistoiacapitaledellibro2026.it/wp-content/uploads/2026/02/loStudiolo.jpg
END:VEVENT
BEGIN:VEVENT
DTSTART;TZID=Europe/Rome:20260304T170000
DTEND;TZID=Europe/Rome:20260304T190000
DTSTAMP:20260424T191640
CREATED:20260213T085105Z
LAST-MODIFIED:20260213T085105Z
UID:2249-1772643600-1772650800@pistoiacapitaledellibro2026.it
SUMMARY:Chi è di scena? Franco Cecchi
DESCRIPTION:pomeriggio in memoria di Franco Checchi \na cura dell’Associazione Giallo Pistoia \naccesso gratuito
URL:https://pistoiacapitaledellibro2026.it/event/chi-e-di-scena-franco-cecchi/
LOCATION:Palazzo de’ Rossi\, via de’ Rossi 26\, Pistoia\, 51100\, Italy
CATEGORIES:Incontri
ATTACH;FMTTYPE=image/webp:https://pistoiacapitaledellibro2026.it/wp-content/uploads/2026/02/palazzo-de-rossi.webp
END:VEVENT
BEGIN:VEVENT
DTSTART;TZID=Europe/Rome:20260304T170000
DTEND;TZID=Europe/Rome:20260304T190000
DTSTAMP:20260424T191640
CREATED:20260213T084339Z
LAST-MODIFIED:20260213T084339Z
UID:2247-1772643600-1772650800@pistoiacapitaledellibro2026.it
SUMMARY:Direttore o Direttrice? A che punto siamo in materia di parità di genere
DESCRIPTION:Corso gratuito in 2 lezioni che offriranno ai partecipanti l’opportunità di ripercorrere l’intenso itinerario che nella cultura italiana si è dipanato negli ultimi vent’anni in tema di uguaglianza di genere nel linguaggio. Il corso è rivolto agli adulti residenti nella provincia di Pistoia\, realizzato nell’ambito del progetto “Giovani Adulti In-Formati” finanziato da Regione Toscana a valere sulle risorse del Fondo Sociale Europeo. \nlezione successiva: 11 marzo 2026 \niscrizione obbligatoria: fseredop.comune.pistoia.it
URL:https://pistoiacapitaledellibro2026.it/event/direttore-o-direttrice-a-che-punto-siamo-in-materia-di-parita-di-genere/
LOCATION:Biblioteca San Giorgio\, Via Sandro Pertini\, 340\, Pistoia\, PT\, 51100\, Italy
CATEGORIES:Corsi
ATTACH;FMTTYPE=image/webp:https://pistoiacapitaledellibro2026.it/wp-content/uploads/2026/02/corsi.webp
END:VEVENT
BEGIN:VEVENT
DTSTART;TZID=Europe/Rome:20260304T170000
DTEND;TZID=Europe/Rome:20260304T183000
DTSTAMP:20260424T191640
CREATED:20260213T084008Z
LAST-MODIFIED:20260226T121705Z
UID:2245-1772643600-1772649000@pistoiacapitaledellibro2026.it
SUMMARY:Meravigliandosi dei luoghi comuni
DESCRIPTION:Raccontare il quartiere attraverso la fotografia\, le storie e gli sguardi\niniziativa dedicata a giovani dai 14 ai 19 anni \na cura del Servizio Politiche di Inclusione Sociale\, Istituti Raggruppati\, Azienda Pubblica di Servizi alla Persona\, Intrecci cooperativa sociale\, Manusa cooperativa sociale e del Centro di Aggregazione Giovanile “Sotto il Palazzo” \nin collaborazione con Nub Project Space \naccesso gratuito su prenotazione: sottoilpalazzo@intreccicoop.it
URL:https://pistoiacapitaledellibro2026.it/event/meravigliandosi-dei-luoghi-comuni/
LOCATION:Sotto il Palazzo\, piazza Nelson Mandela\, Pistoia\, 51100\, Italy
CATEGORIES:Incontri
ATTACH;FMTTYPE=image/png:https://pistoiacapitaledellibro2026.it/wp-content/uploads/2026/02/intrecci-logo.png
END:VEVENT
BEGIN:VEVENT
DTSTART;TZID=Europe/Rome:20260304T160000
DTEND;TZID=Europe/Rome:20260304T183000
DTSTAMP:20260424T191640
CREATED:20260213T083617Z
LAST-MODIFIED:20260213T083617Z
UID:2243-1772640000-1772649000@pistoiacapitaledellibro2026.it
SUMMARY:Omaggio a Tom Cruise\, Oscar alla carriera 2026
DESCRIPTION:Proiezione di un’opera tratta dalla sua filmografia \na cura di YouLab Pistoia. An American Corner \nprogramma di dettaglio in biblioteca \naccesso gratuito (max. 20 persone)
URL:https://pistoiacapitaledellibro2026.it/event/omaggio-a-tom-cruise-oscar-alla-carriera-2026/
LOCATION:Biblioteca San Giorgio\, Via Sandro Pertini\, 340\, Pistoia\, PT\, 51100\, Italy
CATEGORIES:Cinema
ATTACH;FMTTYPE=image/jpeg:https://pistoiacapitaledellibro2026.it/wp-content/uploads/2026/01/cinema-scaled-e1770897447540.jpg
END:VEVENT
BEGIN:VEVENT
DTSTART;TZID=Europe/Rome:20260304T100000
DTEND;TZID=Europe/Rome:20260304T113000
DTSTAMP:20260424T191640
CREATED:20260213T082550Z
LAST-MODIFIED:20260226T121337Z
UID:2232-1772618400-1772623800@pistoiacapitaledellibro2026.it
SUMMARY:Un tè con l’Arte: vestirsi nei secoli tra funzionalità e moda - incontro del mattino
DESCRIPTION:Attraverso le più belle opere d’arte\, le riviste di moda\, i libri e i campionari\, parleremo di come ci si vestiva nei secoli passati: esigenze e gusto si intrecciano in uno dei più eloquenti specchi della società. Qualche dolcetto e un tè o un caffè accompagneranno il corso \na cura di Caterina Bellezza \nprossime date: 11\, 18\, 25 marzo e 1 aprile \naccesso a pagamento: 50 euro intero ciclo di incontri\, 12 euro lezione singola \nprenotazione obbligatoria: caterina.bellezza@gmail.com\, tel. 3200768294
URL:https://pistoiacapitaledellibro2026.it/event/un-te-con-larte-vestirsi-nei-secoli-tra-funzionalita-e-moda/
LOCATION:Lo Studiolo di Caterina Bellezza\, Via dei Bacchettoni\, 6\, Pistoia\, Pistoia\, 51100\, Italy
CATEGORIES:Incontri
ATTACH;FMTTYPE=image/jpeg:https://pistoiacapitaledellibro2026.it/wp-content/uploads/2026/02/loStudiolo.jpg
END:VEVENT
BEGIN:VEVENT
DTSTART;TZID=Europe/Rome:20260304T093000
DTEND;TZID=Europe/Rome:20260304T113000
DTSTAMP:20260424T191640
CREATED:20260212T165022Z
LAST-MODIFIED:20260226T121129Z
UID:2221-1772616600-1772623800@pistoiacapitaledellibro2026.it
SUMMARY:Camminando nel tempo scopriamo come nasce e si trasforma il libro
DESCRIPTION:Rivolto a bambini dall’ultimo anno della scuola materna fino alla V elementare. \nsolo su prenotazione: forteguerriana@comune.pistoia.it
URL:https://pistoiacapitaledellibro2026.it/event/camminando-nel-tempo-scopriamo-come-nasce-e-si-trasforma-il-libro/
LOCATION:Biblioteca Forteguerriana\, piazza della Sapienza 5\, Pistoia\, 51100\, Italy
CATEGORIES:Incontri
ATTACH;FMTTYPE=image/jpeg:https://pistoiacapitaledellibro2026.it/wp-content/uploads/2026/02/libriForteguerriana-scaled.jpg
END:VEVENT
BEGIN:VEVENT
DTSTART;TZID=UTC:20260304T090000
DTEND;TZID=UTC:20260304T103000
DTSTAMP:20260424T191640
CREATED:20260212T164342Z
LAST-MODIFIED:20260212T164342Z
UID:2219-1772614800-1772620200@pistoiacapitaledellibro2026.it
SUMMARY:Senza parole!
DESCRIPTION:Percorso didattico alla scoperta dei “silent books” riservato alle classi della scuola dell’infanzia e della primaria. \nsolo su prenotazione: sangiorgio@comune.pistoia.it
URL:https://pistoiacapitaledellibro2026.it/event/senza-parole-8/
LOCATION:Biblioteca San Giorgio\, Via Sandro Pertini\, 340\, Pistoia\, PT\, 51100\, Italy
CATEGORIES:Incontri
ATTACH;FMTTYPE=image/jpeg:https://pistoiacapitaledellibro2026.it/wp-content/uploads/2026/01/SenzaParole.jpg
END:VEVENT
BEGIN:VEVENT
DTSTART;TZID=Europe/Rome:20260303T210000
DTEND;TZID=Europe/Rome:20260303T223000
DTSTAMP:20260424T191640
CREATED:20260212T164108Z
LAST-MODIFIED:20260226T145027Z
UID:2215-1772571600-1772577000@pistoiacapitaledellibro2026.it
SUMMARY:Il Vangelo secondo Matteo - Lettura integrale a più voci (1)
DESCRIPTION:Quattro incontri in altrettante chiese del centro storico\, in cui la lettura del testo sarà preceduta da una breve introduzione utile a cogliere i contenuti e il contesto di riferimento; nella lettura si alterneranno lettori segnalati dalla Diocesi e da realtà associative presenti in città\, nel desiderio di coinvolgere diverse espressioni della vita cristiana\, culturale e sociale. \na cura della Diocesi di Pistoia e della Parrocchia del Centro Storico \naccesso gratuito\, info: redazione@diocesipistoia.it \nincontri successivi: 10\, 17\, 24 marzo \nL’iniziativa si propone di offrire una lettura integrale del Vangelo di Matteo suddivisa in 4 incontri: \n\nChiesa di San Bartolomeo – Martedì 3 marzo\nChiesa di San Giovanni Fuorcivitas – Martedì 10 marzo\nChiesa di Sant’Andrea – Martedì 17 marzo\nCattedrale di San Zeno – Martedì 24 marzo\n\nIl ciclo di letture intende far conoscere un testo capitale della cultura universale\, ispiratore\, attraverso due millenni di storia\, di artisti\, letterati\, intellettuali\, semplici donne e uomini. Un testo che non sempre è apprezzato nella sua interezza\, talora soltanto saccheggiato di citazioni o episodi. Gli incontri\, che intendono offrire primariamente un’occasione di ascolto e un invito alla lettura del testo biblico\, sono proposti nelle chiese che custodiscono i pulpiti monumentali della città\, luoghi privilegiati della proclamazione e della “visualizzazione” della parola
URL:https://pistoiacapitaledellibro2026.it/event/il-vangelo-secondo-matteo/
LOCATION:Chiesa di San Bartolomeo\, Piazza S. Bartolomeo\, 11\, Pistoia\, Pistoia\, 51100\, Italy
CATEGORIES:Incontri
ATTACH;FMTTYPE=image/jpeg:https://pistoiacapitaledellibro2026.it/wp-content/uploads/2026/02/Cop-Vangelo-secondo-Matteo264.jpg
END:VEVENT
BEGIN:VEVENT
DTSTART;TZID=Europe/Rome:20260303T180000
DTEND;TZID=Europe/Rome:20260303T193000
DTSTAMP:20260424T191640
CREATED:20260212T163156Z
LAST-MODIFIED:20260212T163156Z
UID:2213-1772560800-1772566200@pistoiacapitaledellibro2026.it
SUMMARY:La prossima notte
DESCRIPTION:Presentazione del libro di Giovanni Agnoloni (Transeuropa\, 2026) \ndialoga con l’autore Marisa Salabelle \naccesso gratuito
URL:https://pistoiacapitaledellibro2026.it/event/la-prossima-notte/
LOCATION:Libreria Lo Spazio\, via Curtatone e Montanara\, 20\, Pistoia\, italy\, 51100
CATEGORIES:Presentazioni
ATTACH;FMTTYPE=image/jpeg:https://pistoiacapitaledellibro2026.it/wp-content/uploads/2026/01/lospazio-img6.jpeg
END:VEVENT
BEGIN:VEVENT
DTSTART;TZID=Europe/Rome:20260303T170000
DTEND;TZID=Europe/Rome:20260303T183000
DTSTAMP:20260424T191640
CREATED:20260212T162101Z
LAST-MODIFIED:20260226T120535Z
UID:2210-1772557200-1772562600@pistoiacapitaledellibro2026.it
SUMMARY:Parole che fanno incontrare
DESCRIPTION:Un viaggio nella lettura\, nella fantasia e nell’immaginazione per scoprire e comprendere\nLaboratorio di lettura per famiglie con bambini/e dai 6 ai 10 anni a cura del Servizio Politiche di Inclusione Sociale\, Istituti Raggruppati Azienda Pubblica di Servizi alla Persona\, Intrecci cooperativa sociale\, Manusa cooperativa sociale e dello spazio socio educativo Aquilone in collaborazione con il Centro per le Famiglie di Pistoia. \naccesso gratuito su prenotazione: info@centrofamigliepistoia.it
URL:https://pistoiacapitaledellibro2026.it/event/parole-che-fanno-incontrare/
LOCATION:Spazio Aquilone\, Via Fernando Santi 1\, Pistoia\, italy\, 51100
CATEGORIES:Letture
ATTACH;FMTTYPE=image/png:https://pistoiacapitaledellibro2026.it/wp-content/uploads/2026/02/centroFamiglie.png
END:VEVENT
BEGIN:VEVENT
DTSTART;TZID=Europe/Rome:20260303T170000
DTEND;TZID=Europe/Rome:20260303T183000
DTSTAMP:20260424T191640
CREATED:20260212T161311Z
LAST-MODIFIED:20260212T161311Z
UID:2208-1772557200-1772562600@pistoiacapitaledellibro2026.it
SUMMARY:Giotto era nonno di Banksy
DESCRIPTION:conferenza di Bruno Ialuna sulla storia dell’arte urbana\, dalle grotte della preistoria ai musei di tutto il mondo \na cura dell’Associazione Amici della San Giorgio
URL:https://pistoiacapitaledellibro2026.it/event/giotto-era-nonno-di-banksy/
LOCATION:Biblioteca San Giorgio\, Via Sandro Pertini\, 340\, Pistoia\, PT\, 51100\, Italy
CATEGORIES:Incontri
ATTACH;FMTTYPE=image/webp:https://pistoiacapitaledellibro2026.it/wp-content/uploads/2025/12/Pistoia26-5.webp
END:VEVENT
BEGIN:VEVENT
DTSTART;TZID=UTC:20260303T170000
DTEND;TZID=UTC:20260303T180000
DTSTAMP:20260424T191640
CREATED:20260212T161056Z
LAST-MODIFIED:20260212T161056Z
UID:2206-1772557200-1772560800@pistoiacapitaledellibro2026.it
SUMMARY:Martedì in gioco
DESCRIPTION:per ritrovarsi con gli amici e giocare liberamente con i giochi da tavolo presenti in biblioteca \nper bambini da 5 a 10 anni
URL:https://pistoiacapitaledellibro2026.it/event/martedi-in-gioco-3/
LOCATION:Biblioteca San Giorgio\, Via Sandro Pertini\, 340\, Pistoia\, PT\, 51100\, Italy
CATEGORIES:Giochi
ATTACH;FMTTYPE=image/jpeg:https://pistoiacapitaledellibro2026.it/wp-content/uploads/2025/12/giochi-tavolo-720-x-360.jpeg
END:VEVENT
BEGIN:VEVENT
DTSTART;TZID=UTC:20260303T160000
DTEND;TZID=UTC:20260303T170000
DTSTAMP:20260424T191640
CREATED:20260212T160039Z
LAST-MODIFIED:20260212T160039Z
UID:2201-1772553600-1772557200@pistoiacapitaledellibro2026.it
SUMMARY:Arriva il Librobus!
DESCRIPTION:servizio di trasporto gratuito da casa fino in biblioteca (e viceversa) riservato alle persone anziane e non autonome residenti nel Comune di Pistoia \naccoglienza in biblioteca a cura dell’Associazione Amici della San Giorgio
URL:https://pistoiacapitaledellibro2026.it/event/arriva-il-librobus-3/
LOCATION:Biblioteca San Giorgio\, Via Sandro Pertini\, 340\, Pistoia\, PT\, 51100\, Italy
CATEGORIES:Letture
ATTACH;FMTTYPE=image/jpeg:https://pistoiacapitaledellibro2026.it/wp-content/uploads/2025/12/librobus.jpeg
END:VEVENT
BEGIN:VEVENT
DTSTART;TZID=UTC:20260303T153000
DTEND;TZID=UTC:20260303T173000
DTSTAMP:20260424T191640
CREATED:20260212T143126Z
LAST-MODIFIED:20260212T143126Z
UID:2199-1772551800-1772559000@pistoiacapitaledellibro2026.it
SUMMARY:Prepara il tuo curriculum con Europass!
DESCRIPTION:incontro pratico e interattivo per imparare a creare un curriculum chiaro\, completo ed efficace utilizzando Europass \na cura di ARTI – Centri per l’Impiego Pistoia \nsolo su prenotazione entro le ore 12 del giorno prima dell’evento:\ngiovani.pistoia@arti.toscana.it 
URL:https://pistoiacapitaledellibro2026.it/event/prepara-il-tuo-curriculum-con-europass/
LOCATION:Biblioteca San Giorgio\, Via Sandro Pertini\, 340\, Pistoia\, PT\, 51100\, Italy
CATEGORIES:Corsi
ATTACH;FMTTYPE=image/jpeg:https://pistoiacapitaledellibro2026.it/wp-content/uploads/2025/12/IMG_DIG.jpg
END:VEVENT
BEGIN:VEVENT
DTSTART;TZID=UTC:20260303T113000
DTEND;TZID=UTC:20260303T120000
DTSTAMP:20260424T191640
CREATED:20260212T142651Z
LAST-MODIFIED:20260212T142651Z
UID:2197-1772537400-1772539200@pistoiacapitaledellibro2026.it
SUMMARY:Pistoia Capitale 2026: guida agli eventi della settimana
DESCRIPTION:trasmissione radiofonica condotta da Alessandro Giuntoli con repliche il mercoledì alle 16.30 e il venerdì alle 20 \nanche in digital radio sull’app gratuita della radio\ne sul sito www.radiodiffusionepistoia.it\nSpotify: tinyurl.com/guida2026
URL:https://pistoiacapitaledellibro2026.it/event/pistoia-capitale-2026-guida-agli-eventi-della-settimana-9/
LOCATION:Radio Diffusione Pistoia
ATTACH;FMTTYPE=image/webp:https://pistoiacapitaledellibro2026.it/wp-content/uploads/2025/12/pistoia-capitale-libro.webp
END:VEVENT
BEGIN:VEVENT
DTSTART;TZID=Europe/Rome:20260303T090000
DTEND;TZID=Europe/Rome:20260303T190000
DTSTAMP:20260424T191640
CREATED:20260212T142118Z
LAST-MODIFIED:20260302T162934Z
UID:2195-1772528400-1772564400@pistoiacapitaledellibro2026.it
SUMMARY:Giornata mondiale dello scrittore
DESCRIPTION:allestimento di uno scaffale tematico con albi illustrati e libri per bambini che raccontano il piacere della scrittura e della lettura
URL:https://pistoiacapitaledellibro2026.it/event/giornata-mondiale-dello-scrittore/
LOCATION:Biblioteca San Giorgio\, Via Sandro Pertini\, 340\, Pistoia\, PT\, 51100\, Italy
CATEGORIES:Incontri
ATTACH;FMTTYPE=image/webp:https://pistoiacapitaledellibro2026.it/wp-content/uploads/2026/02/0303-Giornata-mondiale-dello-scrittore.webp
END:VEVENT
BEGIN:VEVENT
DTSTART;TZID=UTC:20260303T090000
DTEND;TZID=UTC:20260303T103000
DTSTAMP:20260424T191640
CREATED:20260212T141740Z
LAST-MODIFIED:20260212T141740Z
UID:2193-1772528400-1772533800@pistoiacapitaledellibro2026.it
SUMMARY:Piano piano\, per conoscere la biblioteca
DESCRIPTION:percorso didattico alla scoperta della sezione ragazzi riservato alle classi della scuola primaria \nsolo su prenotazione: sangiorgio@comune.pistoia.it
URL:https://pistoiacapitaledellibro2026.it/event/piano-piano-per-conoscere-la-biblioteca-4/
LOCATION:Biblioteca San Giorgio\, Via Sandro Pertini\, 340\, Pistoia\, PT\, 51100\, Italy
CATEGORIES:Incontri
ATTACH;FMTTYPE=image/jpeg:https://pistoiacapitaledellibro2026.it/wp-content/uploads/2026/01/PianoPiano.jpg
END:VEVENT
BEGIN:VEVENT
DTSTART;TZID=UTC:20260302T183000
DTEND;TZID=UTC:20260302T193000
DTSTAMP:20260424T191640
CREATED:20260212T120745Z
LAST-MODIFIED:20260226T120203Z
UID:2190-1772476200-1772479800@pistoiacapitaledellibro2026.it
SUMMARY:Incontro del gruppo di lettura
DESCRIPTION:Incontro incentrato sul libro Vinpeel degli orizzonti\, di Peppe Millanta (Neo\, 2018) \na cura della Libreria Il giardino delle parole \naccesso aperto a tutti\, info: tel. 388 8636533
URL:https://pistoiacapitaledellibro2026.it/event/incontro-del-gruppo-di-lettura/
LOCATION:Libreria Il giardino delle parole\, via Pagliucola 115\, Pistoia\, Pistoia\, 51100\, Italy
CATEGORIES:Incontri
ATTACH;FMTTYPE=image/jpeg:https://pistoiacapitaledellibro2026.it/wp-content/uploads/2026/02/Vinipeel.jpg
END:VEVENT
BEGIN:VEVENT
DTSTART;TZID=Europe/Rome:20260302T170000
DTEND;TZID=Europe/Rome:20260302T190000
DTSTAMP:20260424T191640
CREATED:20260212T120134Z
LAST-MODIFIED:20260212T120134Z
UID:2187-1772470800-1772478000@pistoiacapitaledellibro2026.it
SUMMARY:Come creare un Book Trailer
DESCRIPTION:corso gratuito in 3 lezioni su come imparare a realizzare un book trailer in proprio offrendo l’opportunità di definire finalità e articolazione operativa. Il corso è rivolto agli adulti residenti nella provincia di Pistoia\, realizzato nell’ambito del progetto “Giovani Adulti In-Formati” finanziato da Regione Toscana a valere sulle risorse del Fondo Sociale Europeo \nlezioni successive: 9 e 16 marzo 2026 \niscrizione obbligatoria: fseredop.comune.pistoia.it
URL:https://pistoiacapitaledellibro2026.it/event/come-creare-un-book-trailer/
LOCATION:Biblioteca San Giorgio\, Via Sandro Pertini\, 340\, Pistoia\, PT\, 51100\, Italy
CATEGORIES:Corsi
ATTACH;FMTTYPE=image/webp:https://pistoiacapitaledellibro2026.it/wp-content/uploads/2026/02/corsi.webp
END:VEVENT
BEGIN:VEVENT
DTSTART;TZID=Europe/Rome:20260302T160000
DTEND;TZID=Europe/Rome:20260302T180000
DTSTAMP:20260424T191640
CREATED:20260212T115811Z
LAST-MODIFIED:20260212T115811Z
UID:2185-1772467200-1772474400@pistoiacapitaledellibro2026.it
SUMMARY:Aspettando il Festival del Giallo
DESCRIPTION:proiezione di un film con protagonista Sherlock Holmes \na cura di Giallo Pistoia\, introduzione di Stefano Cavalli \nprogramma di dettaglio in biblioteca \naccesso gratuito (max. 20 posti)
URL:https://pistoiacapitaledellibro2026.it/event/aspettando-il-festival-del-giallo/
LOCATION:Biblioteca San Giorgio\, Via Sandro Pertini\, 340\, Pistoia\, PT\, 51100\, Italy
CATEGORIES:Cinema
ATTACH;FMTTYPE=image/jpeg:https://pistoiacapitaledellibro2026.it/wp-content/uploads/2026/01/cinema-scaled-e1770897447540.jpg
END:VEVENT
BEGIN:VEVENT
DTSTART;TZID=Europe/Rome:20260302T150000
DTEND;TZID=Europe/Rome:20260302T190000
DTSTAMP:20260424T191640
CREATED:20260212T115405Z
LAST-MODIFIED:20260212T115405Z
UID:2182-1772463600-1772478000@pistoiacapitaledellibro2026.it
SUMMARY:C’è un libro per te: servizio di prestito a domicilio
DESCRIPTION:servizio gratuito di consegna a domicilio dei libri richiesti dagli utenti impossibilitati a raggiungere la biblioteca. \na cura dell’Associazione Amici della San Giorgio \nprenotazioni: tel. 0573 371600
URL:https://pistoiacapitaledellibro2026.it/event/ce-un-libro-per-te-servizio-di-prestito-a-domicilio-3/
LOCATION:PT
CATEGORIES:Letture
ATTACH;FMTTYPE=image/jpeg:https://pistoiacapitaledellibro2026.it/wp-content/uploads/2026/02/LibroPerTe.jpeg
END:VEVENT
BEGIN:VEVENT
DTSTART;TZID=Europe/Rome:20260302T150000
DTEND;TZID=Europe/Rome:20260302T150000
DTSTAMP:20260424T191640
CREATED:20260212T114512Z
LAST-MODIFIED:20260302T164117Z
UID:2180-1772463600-1772463600@pistoiacapitaledellibro2026.it
SUMMARY:Il libro consigliato
DESCRIPTION:La rubrica settimanale che propone letture di saggistica\, fumetti e narrativa: informazione sui contenuti o la trama\, breve commento e alcune citazioni. \nwww.sangiorgio.comune.pistoia.it
URL:https://pistoiacapitaledellibro2026.it/event/il-libro-consigliato/
LOCATION:On line\, sul sito della Biblioteca San Giorgio
CATEGORIES:Incontri
ATTACH;FMTTYPE=image/webp:https://pistoiacapitaledellibro2026.it/wp-content/uploads/2026/02/Il-libro-consigliato.webp
END:VEVENT
BEGIN:VEVENT
DTSTART;TZID=Europe/Rome:20260302T140000
DTEND;TZID=Europe/Rome:20260302T140000
DTSTAMP:20260424T191640
CREATED:20260212T114010Z
LAST-MODIFIED:20260212T114105Z
UID:2176-1772460000-1772460000@pistoiacapitaledellibro2026.it
SUMMARY:Ai margini della storia: narrazioni femminili tra memoria e riscatto
DESCRIPTION:Per la serie “SangiorgioRassegne”\ndistribuzione gratuita della rassegna bibliografica del mese di marzo
URL:https://pistoiacapitaledellibro2026.it/event/ai-margini-della-storia-narrazioni-femminili-tra-memoria-e-riscatto/
LOCATION:Biblioteca San Giorgio\, Via Sandro Pertini\, 340\, Pistoia\, PT\, 51100\, Italy
CATEGORIES:Incontri
ATTACH;FMTTYPE=image/webp:https://pistoiacapitaledellibro2026.it/wp-content/uploads/2025/12/Pistoia26-5.webp
END:VEVENT
BEGIN:VEVENT
DTSTART;TZID=Europe/Rome:20260302T110000
DTEND;TZID=Europe/Rome:20260302T110000
DTSTAMP:20260424T191640
CREATED:20260212T112913Z
LAST-MODIFIED:20260227T095843Z
UID:2171-1772449200-1772449200@pistoiacapitaledellibro2026.it
SUMMARY:Lancio del concorso letterario Pistoia: radici e orizzonti
DESCRIPTION:una iniziativa per promuovere scrittura\, memoria e nuovi sguardi sul territorio\na cura di Chiara Alibrandi e Paola Fagnani \nil concorso è aperto ai residenti a Pistoia e provincia\, e prevede la scrittura di racconti brevi ispirati a personaggi\, luoghi ed eventi della città di Pistoia. \npartecipazione a pagamento: 10 euro a persona\, studenti 5 euro\npubblicazione del bando e delle modalità di partecipazione sul sito www.puccinigatteschi.com\ninfo: tel. 3669912228\npuccinigatteschi@gmail.com
URL:https://pistoiacapitaledellibro2026.it/event/lancio-del-concorso-letterario-pistoia-radici-e-orizzonti/
LOCATION:On line\, sul sito del Polo Culturale Puccini Gatteschi\, Italy
CATEGORIES:Incontri
ATTACH;FMTTYPE=image/png:https://pistoiacapitaledellibro2026.it/wp-content/uploads/2026/01/Raccontami-un-libro-20.png
END:VEVENT
BEGIN:VEVENT
DTSTART;TZID=Europe/Rome:20260301T183000
DTEND;TZID=Europe/Rome:20260301T200000
DTSTAMP:20260424T191640
CREATED:20260212T111206Z
LAST-MODIFIED:20260226T084035Z
UID:2165-1772389800-1772395200@pistoiacapitaledellibro2026.it
SUMMARY:Il problema finale
DESCRIPTION:Per il ciclo “Prometeo Incontri”\nPresentazione del libro di Arturo Pérez-Reverte (Settecolori\, 2025) \nassieme all’autore\, saranno presenti Manuel Grillo\, editore e Carlos Dercole\, traduttore \ntraduzione consecutiva in italiano \nin collaborazione con l’Associazione culturale Prometeo\, la Brigata del Leoncino e il Fondo Marco Mungai \naccesso libero fino ad esaurimento posti \ninfo: Associazione Prometeo\, 331 5938952 \nAll’interno del ciclo “Prometeo Incontri”\, Arturo Pérez-Reverte \npresenta Il problema finale\, un romanzo che utilizza la struttura del giallo classico per andare oltre il genere e interrogare il nostro tempo. Attraverso un omaggio colto al mito di Sherlock Holmes\, Pérez-Reverte \ncostruisce una storiache parla di intelligenza\, disincanto e della solitudine di chi sceglie di pensare fino in fondo. Autore di opere fondamentali della narrativa contemporanea\, più volte trasposte per il cinema e la serialità\, membro della Real Academia Española\, Pérez-Reverte porta a Prometeo Incontri una riflessione sul ruolo del racconto\, sulla responsabilità dello scrittore e sul valore della conoscenza in un’epoca che tende a consumare storie senza attraversarle davvero e si inserisce nel programma come momento inaugurale: un invito a leggere l’uomo e il mondo partendo dalla letteratura\, là dove il pensiero diventa scelta.
URL:https://pistoiacapitaledellibro2026.it/event/per-il-ciclo-prometeo-incontri-il-problema-finale/
LOCATION:Palazzo Comunale\, piazza Duomo 1\, Pistoia\, 51100\, Italy
CATEGORIES:Presentazioni
ATTACH;FMTTYPE=image/jpeg:https://pistoiacapitaledellibro2026.it/wp-content/uploads/2026/02/problemaFinale.jpg
END:VEVENT
END:VCALENDAR