BEGIN:VCALENDAR
VERSION:2.0
PRODID:-//Pistoia Capitale Italiana del Libro 2026 - ECPv6.15.12.2//NONSGML v1.0//EN
CALSCALE:GREGORIAN
METHOD:PUBLISH
X-ORIGINAL-URL:https://pistoiacapitaledellibro2026.it
X-WR-CALDESC:Eventi per Pistoia Capitale Italiana del Libro 2026
REFRESH-INTERVAL;VALUE=DURATION:PT1H
X-Robots-Tag:noindex
X-PUBLISHED-TTL:PT1H
BEGIN:VTIMEZONE
TZID:UTC
BEGIN:STANDARD
TZOFFSETFROM:+0000
TZOFFSETTO:+0000
TZNAME:UTC
DTSTART:20250101T000000
END:STANDARD
END:VTIMEZONE
BEGIN:VTIMEZONE
TZID:Europe/Rome
BEGIN:DAYLIGHT
TZOFFSETFROM:+0100
TZOFFSETTO:+0200
TZNAME:CEST
DTSTART:20250330T010000
END:DAYLIGHT
BEGIN:STANDARD
TZOFFSETFROM:+0200
TZOFFSETTO:+0100
TZNAME:CET
DTSTART:20251026T010000
END:STANDARD
BEGIN:DAYLIGHT
TZOFFSETFROM:+0100
TZOFFSETTO:+0200
TZNAME:CEST
DTSTART:20260329T010000
END:DAYLIGHT
BEGIN:STANDARD
TZOFFSETFROM:+0200
TZOFFSETTO:+0100
TZNAME:CET
DTSTART:20261025T010000
END:STANDARD
BEGIN:DAYLIGHT
TZOFFSETFROM:+0100
TZOFFSETTO:+0200
TZNAME:CEST
DTSTART:20270328T010000
END:DAYLIGHT
BEGIN:STANDARD
TZOFFSETFROM:+0200
TZOFFSETTO:+0100
TZNAME:CET
DTSTART:20271031T010000
END:STANDARD
END:VTIMEZONE
BEGIN:VEVENT
DTSTART;TZID=UTC:20260228T160000
DTEND;TZID=UTC:20260228T183000
DTSTAMP:20260425T002508
CREATED:20260129T103626Z
LAST-MODIFIED:20260129T132138Z
UID:1946-1772294400-1772303400@pistoiacapitaledellibro2026.it
SUMMARY:America 250
DESCRIPTION:Nell’ambito delle celebrazioni per i 250 anni dalla Dichiarazione d’Indipendenza degli Stati Uniti d’America\nproiezione di un film in lingua inglese con sottotitoli in italiano \na cura di YouLab Pistoia\, An American Corner\nprogramma di dettaglio in biblioteca\naccesso gratuito su prenotazione:\nyoulab@comune.pistoia.it
URL:https://pistoiacapitaledellibro2026.it/event/america-250-2/
LOCATION:Biblioteca San Giorgio\, Via Sandro Pertini\, 340\, Pistoia\, PT\, 51100\, Italy
CATEGORIES:Cinema
ATTACH;FMTTYPE=image/jpeg:https://pistoiacapitaledellibro2026.it/wp-content/uploads/2025/12/America-250-logo.jpeg
END:VEVENT
BEGIN:VEVENT
DTSTART;TZID=UTC:20260228T150000
DTEND;TZID=UTC:20260228T170000
DTSTAMP:20260425T002508
CREATED:20260129T103507Z
LAST-MODIFIED:20260129T103507Z
UID:1944-1772290800-1772298000@pistoiacapitaledellibro2026.it
SUMMARY:Level Up @ Game Zone
DESCRIPTION:il nuovo angolo di YouLab Pistoia della Biblioteca San Giorgio\ndedicato a chi ama il divertimento\, la sana competizione\,\nil gioco condiviso. Una gaming station con la Play Station (PS5)\npensata anche come una piccola arena\, dove tutti potranno misurarsi\nin sfide più semplici o in veri e propri tornei \na cura di YouLab Pistoia\, An American Corner accesso gratuito su prenotazione: youlab@comune.pistoia.it
URL:https://pistoiacapitaledellibro2026.it/event/level-up-game-zone-4/
LOCATION:Biblioteca San Giorgio\, Via Sandro Pertini\, 340\, Pistoia\, PT\, 51100\, Italy
CATEGORIES:Giochi
ATTACH;FMTTYPE=image/jpeg:https://pistoiacapitaledellibro2026.it/wp-content/uploads/2025/12/foto-1.jpg
END:VEVENT
BEGIN:VEVENT
DTSTART;TZID=UTC:20260228T110000
DTEND;TZID=UTC:20260228T130000
DTSTAMP:20260425T002508
CREATED:20260129T103339Z
LAST-MODIFIED:20260129T105753Z
UID:1942-1772276400-1772283600@pistoiacapitaledellibro2026.it
SUMMARY:American Book Club
DESCRIPTION:secondo appuntamento del 2026 in lingua inglese per leggere\ne commentare insieme il romanzo americano scelto dai partecipanti\nguidati da una coordinatrice madrelingua \na cura di YouLab Pistoia. An American Corner\naccesso gratuito su prenotazione:\nyoulab@comune.pistoia.it
URL:https://pistoiacapitaledellibro2026.it/event/american-book-club-2/
LOCATION:Biblioteca San Giorgio\, Via Sandro Pertini\, 340\, Pistoia\, PT\, 51100\, Italy
CATEGORIES:Letture
ATTACH;FMTTYPE=image/jpeg:https://pistoiacapitaledellibro2026.it/wp-content/uploads/2025/12/american-book-club.jpeg
END:VEVENT
BEGIN:VEVENT
DTSTART;TZID=UTC:20260228T103000
DTEND;TZID=UTC:20260228T123000
DTSTAMP:20260425T002508
CREATED:20260129T103150Z
LAST-MODIFIED:20260129T132514Z
UID:1939-1772274600-1772281800@pistoiacapitaledellibro2026.it
SUMMARY:Come creare presentazioni non lineari con Prezi (3)
DESCRIPTION:corso gratuito in 3 lezioni su come utilizzare il software di presentazione alternativo a Powerpoint\, per la costruzione di presentazioni non lineari\, rivolto agli adulti residenti nella provincia di Pistoia\, realizzato nell’ambito del progetto “Giovani Adulti In-Formati” finanziato da Regione Toscana a valere sulle risorse del Fondo Sociale Europeo
URL:https://pistoiacapitaledellibro2026.it/event/come-creare-presentazioni-non-lineari-con-prezi-3/
LOCATION:Biblioteca San Giorgio\, Via Sandro Pertini\, 340\, Pistoia\, PT\, 51100\, Italy
CATEGORIES:Corsi
ATTACH;FMTTYPE=image/jpeg:https://pistoiacapitaledellibro2026.it/wp-content/uploads/2025/12/IMG_DIG.jpg
END:VEVENT
BEGIN:VEVENT
DTSTART;TZID=UTC:20260228T103000
DTEND;TZID=UTC:20260228T120000
DTSTAMP:20260425T002508
CREATED:20260129T103031Z
LAST-MODIFIED:20260202T134416Z
UID:1937-1772274600-1772280000@pistoiacapitaledellibro2026.it
SUMMARY:Il succo delle storie: fiabe sulle punte
DESCRIPTION:lettura e laboratorio per bambini da 4 a 7 anni \na cura di Alessia Migliani\naccesso gratuito su prenotazione:\nam.org.eventi@gmail.com
URL:https://pistoiacapitaledellibro2026.it/event/il-succo-delle-storie-fiabe-sulle-punte-2/
LOCATION:Biblioteca San Giorgio\, Via Sandro Pertini\, 340\, Pistoia\, PT\, 51100\, Italy
CATEGORIES:Letture
ATTACH;FMTTYPE=image/jpeg:https://pistoiacapitaledellibro2026.it/wp-content/uploads/2026/01/sullePunte-1-scaled.jpg
END:VEVENT
BEGIN:VEVENT
DTSTART;TZID=UTC:20260228T100000
DTEND;TZID=UTC:20260228T180000
DTSTAMP:20260425T002508
CREATED:20260129T125820Z
LAST-MODIFIED:20260129T125820Z
UID:1966-1772272800-1772301600@pistoiacapitaledellibro2026.it
SUMMARY:Caccia al colpevole
DESCRIPTION:Per il ciclo “Giallo al museo”\nun gioco investigativo alla scoperta dei musei\, a cura dell’Associazione Narratori di Mondi\,\nun giallo da risolvere per scoprire la città e i suoi musei\,\nseguendo indizi tra vie medievali\, opere d’arte e reperti\,\nalla ricerca di un segreto riemerso dagli archivi cittadini \ngioco itinerante per giovani\, adulti e famiglie\ncon bambini da 7 anni in su attività gratuita al costo del biglietto di accesso al museo\nprenotazione obbligatoria: edu@pistoiamusei.it \nEvento dalle 10.00 alle 13.00 e dalle 15.00 alle 18.00
URL:https://pistoiacapitaledellibro2026.it/event/caccia-al-colpevole/
LOCATION:Fondazione Pistoia Musei\, piazza Duomo 7\, Pistoia\, Pistoia\, 51100
CATEGORIES:Giochi
ATTACH;FMTTYPE=image/jpeg:https://pistoiacapitaledellibro2026.it/wp-content/uploads/2026/01/AnticoPalazzoVescovi_1620_0.jpg
END:VEVENT
BEGIN:VEVENT
DTSTART;TZID=UTC:20260227T183000
DTEND;TZID=UTC:20260227T193000
DTSTAMP:20260425T002508
CREATED:20260129T102901Z
LAST-MODIFIED:20260202T140213Z
UID:1935-1772217000-1772220600@pistoiacapitaledellibro2026.it
SUMMARY:Giacomo Trinci presenta Antonio Delfini Poesie della fine del mondo\, del prima e del dopo (Einaudi 2013)
DESCRIPTION:Per il ciclo di incontri “Scusate il ritardo\, libri usciti ieri che leggeremo anche domani”\naccesso gratuito
URL:https://pistoiacapitaledellibro2026.it/event/giacomo-trinci-presenta-antonio-delfini-poesie-della-fine-del-mondo-del-prima-e-del-dopo-einaudi-2013/
LOCATION:Centro culturale Il Funaro\, via del Funaro 16\, Pistoia\, 51100\, Italy
CATEGORIES:Incontri
ATTACH;FMTTYPE=image/jpeg:https://pistoiacapitaledellibro2026.it/wp-content/uploads/2026/01/mondo-scaled.jpg
END:VEVENT
BEGIN:VEVENT
DTSTART;TZID=UTC:20260227T173000
DTEND;TZID=UTC:20260227T190000
DTSTAMP:20260425T002508
CREATED:20260129T102657Z
LAST-MODIFIED:20260211T140154Z
UID:1933-1772213400-1772218800@pistoiacapitaledellibro2026.it
SUMMARY:Lezione di Helena Janeczek su Kafka A partire dal suo libro di racconti Il tempo degli imprevisti (Guanda\, 2025)
DESCRIPTION:presentazione della prima finalista al Premio Ceppo Racconto 2026 \na cura di Paolo Fabrizio Iacuzzi\nin collaborazione con Accademia Internazionale del Ceppo
URL:https://pistoiacapitaledellibro2026.it/event/lezione-di-helena-janeczek-su-kafka-a-partire-dal-suo-libro-di-racconti-il-tempo-degli-imprevisti-guanda-2025/
LOCATION:Libreria Lo Spazio\, via Curtatone e Montanara\, 20\, Pistoia\, italy\, 51100
CATEGORIES:Incontri
ATTACH;FMTTYPE=image/jpeg:https://pistoiacapitaledellibro2026.it/wp-content/uploads/2026/01/lospazio-img6.jpeg
END:VEVENT
BEGIN:VEVENT
DTSTART;TZID=UTC:20260227T170000
DTEND;TZID=UTC:20260227T190000
DTSTAMP:20260425T002508
CREATED:20260129T102455Z
LAST-MODIFIED:20260211T135456Z
UID:1931-1772211600-1772218800@pistoiacapitaledellibro2026.it
SUMMARY:Incontro del Gruppo “Atlante delle Letture”
DESCRIPTION:discussione su brani tratti da due romanzi ambientati nella regione Marche:\nDialogo di un un venditore di almanacchi e un passeggere tratto dalle Operette morali di Giacomo Leopardi\ne Il lanciatore di giavellotto di Paolo Volponi \n(partecipazione riservata ai soli membri del Gruppo)
URL:https://pistoiacapitaledellibro2026.it/event/incontro-del-gruppo-atlante-delle-letture-2/
LOCATION:Biblioteca San Giorgio\, Via Sandro Pertini\, 340\, Pistoia\, PT\, 51100\, Italy
CATEGORIES:Incontri
ATTACH;FMTTYPE=image/jpeg:https://pistoiacapitaledellibro2026.it/wp-content/uploads/2025/12/atlente-letture.jpeg
END:VEVENT
BEGIN:VEVENT
DTSTART;TZID=UTC:20260227T170000
DTEND;TZID=UTC:20260227T183000
DTSTAMP:20260425T002508
CREATED:20260129T102324Z
LAST-MODIFIED:20260129T133610Z
UID:1929-1772211600-1772217000@pistoiacapitaledellibro2026.it
SUMMARY:Ti racconto… in altre parole
DESCRIPTION:laboratorio per famiglie con bambini da 0 a 18 mesi\,\nletture per bambini da 5 a 10 anni in lingua senegalese\ne in lingua italiana\, per conoscere le storie che vengono da lontano \nin collaborazione col Comitato Provinciale Unicef di Pistoia
URL:https://pistoiacapitaledellibro2026.it/event/ti-racconto-in-altre-parole-2/
LOCATION:Biblioteca San Giorgio\, Via Sandro Pertini\, 340\, Pistoia\, PT\, 51100\, Italy
CATEGORIES:Letture
ATTACH;FMTTYPE=image/jpeg:https://pistoiacapitaledellibro2026.it/wp-content/uploads/2025/12/Ti-racconto.jpeg
END:VEVENT
BEGIN:VEVENT
DTSTART;TZID=UTC:20260227T160000
DTEND;TZID=UTC:20260227T190000
DTSTAMP:20260425T002508
CREATED:20260129T102141Z
LAST-MODIFIED:20260129T133421Z
UID:1927-1772208000-1772218800@pistoiacapitaledellibro2026.it
SUMMARY:La grande cultura della Bibbia
DESCRIPTION:Per il ciclo di incontri “Leggere la Bibbia”\ncon Piero Stefani\, teologo\, e Alessandro Cortesi\, teologo\nconduce Alessandro Pagnini \na cura della Fondazione Francis Bacon di Pistoia\naccesso gratuito fino ad esaurimento dei posti
URL:https://pistoiacapitaledellibro2026.it/event/la-grande-cultura-della-bibbia/
LOCATION:Biblioteca San Giorgio\, Via Sandro Pertini\, 340\, Pistoia\, PT\, 51100\, Italy
CATEGORIES:Incontri
ATTACH;FMTTYPE=image/jpeg:https://pistoiacapitaledellibro2026.it/wp-content/uploads/2025/12/Leggere-la-Bibbia.jpeg
END:VEVENT
BEGIN:VEVENT
DTSTART;TZID=UTC:20260227T090000
DTEND;TZID=UTC:20260227T103000
DTSTAMP:20260425T002508
CREATED:20260129T101946Z
LAST-MODIFIED:20260211T135109Z
UID:1925-1772182800-1772188200@pistoiacapitaledellibro2026.it
SUMMARY:Io che mito!
DESCRIPTION:percorso didattico sulla mitologia greca riservato alle classi delle scuole primarie \nsolo su prenotazione: sangiorgio@comune.pistoia.it
URL:https://pistoiacapitaledellibro2026.it/event/io-che-mito-3/
LOCATION:Biblioteca San Giorgio\, Via Sandro Pertini\, 340\, Pistoia\, PT\, 51100\, Italy
CATEGORIES:Incontri
ATTACH;FMTTYPE=image/jpeg:https://pistoiacapitaledellibro2026.it/wp-content/uploads/2026/01/io-che-mito.jpeg
END:VEVENT
BEGIN:VEVENT
DTSTART;TZID=UTC:20260226T173000
DTEND;TZID=UTC:20260226T183000
DTSTAMP:20260425T002508
CREATED:20260129T101805Z
LAST-MODIFIED:20260211T135008Z
UID:1923-1772127000-1772130600@pistoiacapitaledellibro2026.it
SUMMARY:Vipere con paracadute e salamandre di fuoco Anfibi e rettili della Provincia di Pistoia
DESCRIPTION:Importanza e miti\nPer il ciclo “Curiosità in natura”\ncon Giacomo Bruni\, erpetologo \na cura dell’Associazione di promozione sociale\nCastanea accesso libero su prenotazione:\ncorsi.sangiorgio@comune.pistoia.it
URL:https://pistoiacapitaledellibro2026.it/event/vipere-con-paracadute-e-salamandre-di-fuoco-anfibi-e-rettili-della-provincia-di-pistoia-importanza-e-miti/
LOCATION:Biblioteca San Giorgio\, Via Sandro Pertini\, 340\, Pistoia\, PT\, 51100\, Italy
CATEGORIES:Incontri
ATTACH;FMTTYPE=image/png:https://pistoiacapitaledellibro2026.it/wp-content/uploads/2026/01/vipere-con-paracadute.png
END:VEVENT
BEGIN:VEVENT
DTSTART;TZID=UTC:20260226T163000
DTEND;TZID=UTC:20260226T183000
DTSTAMP:20260425T002508
CREATED:20260129T101559Z
LAST-MODIFIED:20260202T134703Z
UID:1921-1772123400-1772130600@pistoiacapitaledellibro2026.it
SUMMARY:Siamo tutti… nati per leggere!
DESCRIPTION:letture per bambini da 24 a 36 mesi Due turni: 16.45-17.30 e 17.45-18.30.\nMax. 8 bambini per turno \na cura delle volontarie di Nati per Leggere\naccesso gratuito su prenotazione:\ncorsi.sangiorgio@comune.pistoia.it
URL:https://pistoiacapitaledellibro2026.it/event/siamo-tutti-nati-per-leggere-3/
LOCATION:Biblioteca San Giorgio\, Via Sandro Pertini\, 340\, Pistoia\, PT\, 51100\, Italy
CATEGORIES:Letture
ATTACH;FMTTYPE=image/jpeg:https://pistoiacapitaledellibro2026.it/wp-content/uploads/2026/01/nati-per-leggere.jpg
END:VEVENT
BEGIN:VEVENT
DTSTART;TZID=UTC:20260226T160000
DTEND;TZID=UTC:20260226T190000
DTSTAMP:20260425T002508
CREATED:20260129T101411Z
LAST-MODIFIED:20260129T105633Z
UID:1919-1772121600-1772132400@pistoiacapitaledellibro2026.it
SUMMARY:Scacco al re
DESCRIPTION:una pausa di gioco tra una lettura e l’altra \na cura dell’Associazione Amici della San Giorgio
URL:https://pistoiacapitaledellibro2026.it/event/scacco-al-re-16/
LOCATION:Biblioteca San Giorgio\, Via Sandro Pertini\, 340\, Pistoia\, PT\, 51100\, Italy
CATEGORIES:Giochi
ATTACH;FMTTYPE=image/webp:https://pistoiacapitaledellibro2026.it/wp-content/uploads/2025/12/scacco-al-re.webp
END:VEVENT
BEGIN:VEVENT
DTSTART;TZID=UTC:20260226T160000
DTEND;TZID=UTC:20260226T180000
DTSTAMP:20260425T002508
CREATED:20260129T101258Z
LAST-MODIFIED:20260211T134539Z
UID:1917-1772121600-1772128800@pistoiacapitaledellibro2026.it
SUMMARY:Abitare le pagine di un libro
DESCRIPTION:laboratorio per famiglie con bambini da 0 a 18 mesi\,\nper promuovere la lettura condivisa \na cura dei Servizi Educativi del Comune di Pistoia\naccesso gratuito su iscrizione: arearossa@comune.pistoia.it\noppure tel. 0573 34876
URL:https://pistoiacapitaledellibro2026.it/event/abitare-le-pagine-di-un-libro-2/
LOCATION:Area Bambini Rossa\, via degli Armeni 5/a\, Pistoia\, Pistoia\, 51100\, Italy
CATEGORIES:Corsi
ATTACH;FMTTYPE=image/jpeg:https://pistoiacapitaledellibro2026.it/wp-content/uploads/2025/12/abitare-pagine-libro.jpeg
END:VEVENT
BEGIN:VEVENT
DTSTART;TZID=UTC:20260226T090000
DTEND;TZID=UTC:20260226T103000
DTSTAMP:20260425T002508
CREATED:20260129T101055Z
LAST-MODIFIED:20260202T140910Z
UID:1914-1772096400-1772101800@pistoiacapitaledellibro2026.it
SUMMARY:Volo con te
DESCRIPTION:percorso didattico sulla consapevolezza di sé riservato alle classi delle scuole primarie \nsolo su prenotazione: sangiorgio@comune.pistoia.it
URL:https://pistoiacapitaledellibro2026.it/event/volo-con-te-2/
LOCATION:Biblioteca San Giorgio\, Via Sandro Pertini\, 340\, Pistoia\, PT\, 51100\, Italy
CATEGORIES:Incontri
ATTACH;FMTTYPE=image/jpeg:https://pistoiacapitaledellibro2026.it/wp-content/uploads/2026/01/bambiniBiblio.jpg
END:VEVENT
BEGIN:VEVENT
DTSTART;TZID=UTC:20260225T170000
DTEND;TZID=UTC:20260225T183000
DTSTAMP:20260425T002508
CREATED:20260129T100913Z
LAST-MODIFIED:20260129T100913Z
UID:1911-1772038800-1772044200@pistoiacapitaledellibro2026.it
SUMMARY:Siamo figli delle stelle? (4)
DESCRIPTION:corso in quattro incontri di introduzione all’astrofisica\na cura di Filippo Zerbini \naccesso gratuito su prenotazione:\ncorsi.sangiorgio@ comune.pistoia.it
URL:https://pistoiacapitaledellibro2026.it/event/siamo-figli-delle-stelle-4/
LOCATION:Biblioteca San Giorgio\, Via Sandro Pertini\, 340\, Pistoia\, PT\, 51100\, Italy
CATEGORIES:Corsi
ATTACH;FMTTYPE=image/jpeg:https://pistoiacapitaledellibro2026.it/wp-content/uploads/2026/01/SiamoFigliStelle.jpg
END:VEVENT
BEGIN:VEVENT
DTSTART;TZID=UTC:20260225T163000
DTEND;TZID=UTC:20260225T183000
DTSTAMP:20260425T002508
CREATED:20260129T100749Z
LAST-MODIFIED:20260129T133246Z
UID:1909-1772037000-1772044200@pistoiacapitaledellibro2026.it
SUMMARY:Cuore di maglia
DESCRIPTION:incontro aperto a tutti per conoscere l’associazione e per lavorare a maglia in compagnia \na cura dell’Associazione Cuore di Maglia
URL:https://pistoiacapitaledellibro2026.it/event/cuore-di-maglia-2/
LOCATION:Biblioteca San Giorgio\, Via Sandro Pertini\, 340\, Pistoia\, PT\, 51100\, Italy
CATEGORIES:Incontri
ATTACH;FMTTYPE=image/png:https://pistoiacapitaledellibro2026.it/wp-content/uploads/2026/01/CuoreMaglia.png
END:VEVENT
BEGIN:VEVENT
DTSTART;TZID=UTC:20260225T160000
DTEND;TZID=UTC:20260225T183000
DTSTAMP:20260425T002508
CREATED:20260129T100633Z
LAST-MODIFIED:20260129T105459Z
UID:1907-1772035200-1772044200@pistoiacapitaledellibro2026.it
SUMMARY:Black History Movies
DESCRIPTION:In occasione del “Black History Month”\nproiezione di un film sull’identità e i diritti degli afroamericani\nfilm in lingua inglese con sottotitoli in italiano \na cura di YouLab Pistoia. An American Corner\nprogramma di dettaglio in biblioteca\naccesso gratuito fino ad esaurimento dei posti
URL:https://pistoiacapitaledellibro2026.it/event/black-history-movies-4/
LOCATION:Biblioteca San Giorgio\, Via Sandro Pertini\, 340\, Pistoia\, PT\, 51100\, Italy
CATEGORIES:Cinema
ATTACH;FMTTYPE=image/jpeg:https://pistoiacapitaledellibro2026.it/wp-content/uploads/2026/01/Black-History-Month-4.jpg
END:VEVENT
BEGIN:VEVENT
DTSTART;TZID=UTC:20260225T090000
DTEND;TZID=UTC:20260225T103000
DTSTAMP:20260425T002508
CREATED:20260129T100459Z
LAST-MODIFIED:20260202T135538Z
UID:1904-1772010000-1772015400@pistoiacapitaledellibro2026.it
SUMMARY:Un nido di libri
DESCRIPTION:percorso didattico per conoscere la Sezione Ragazzi\nriservato alle scuole dell’infanzia \nsolo su prenotazione: sangiorgio@comune.pistoia.it
URL:https://pistoiacapitaledellibro2026.it/event/un-nido-di-libri-4/
LOCATION:Biblioteca San Giorgio\, Via Sandro Pertini\, 340\, Pistoia\, PT\, 51100\, Italy
CATEGORIES:Incontri
ATTACH;FMTTYPE=image/jpeg:https://pistoiacapitaledellibro2026.it/wp-content/uploads/2026/01/babyLibri.jpg
END:VEVENT
BEGIN:VEVENT
DTSTART;TZID=UTC:20260224T203000
DTEND;TZID=UTC:20260224T220000
DTSTAMP:20260425T002508
CREATED:20260129T100249Z
LAST-MODIFIED:20260211T134423Z
UID:1899-1771965000-1771970400@pistoiacapitaledellibro2026.it
SUMMARY:Corso di scrittura creativa
DESCRIPTION:15 lezioni on line di un’ora e mezzo ciascuna\, ogni martedì\,\nsotto la guida dello scrittore e saggista Salvatore Toscano \na cura della Libreria Il giardino delle parole\naccesso a pagamento: euro 200 per l’intero corso\nInfo: 3888636533
URL:https://pistoiacapitaledellibro2026.it/event/corso-di-scrittura-creativa/
LOCATION:On line
CATEGORIES:Corsi
ATTACH;FMTTYPE=image/jpeg:https://pistoiacapitaledellibro2026.it/wp-content/uploads/2026/01/CorsiDiScritturaCreativa.jpeg
END:VEVENT
BEGIN:VEVENT
DTSTART;TZID=Europe/Rome:20260224T183000
DTEND;TZID=Europe/Rome:20260224T200000
DTSTAMP:20260425T002508
CREATED:20260212T085206Z
LAST-MODIFIED:20260212T090211Z
UID:2146-1771957800-1771963200@pistoiacapitaledellibro2026.it
SUMMARY:Abolire l'impossibile. Le forme della violenza\, le pratiche della libertà
DESCRIPTION:presentazione del saggio di Valeria Verdolini (Add\, 2025)
URL:https://pistoiacapitaledellibro2026.it/event/abolire-impossibile/
LOCATION:Libreria Cino\, via Cino da Pistoia 14\, Pistoia\, 51100\, Italy
CATEGORIES:Presentazioni
ATTACH;FMTTYPE=image/jpeg:https://pistoiacapitaledellibro2026.it/wp-content/uploads/2026/02/abolire-impossibile-e1770886921201.jpg
END:VEVENT
BEGIN:VEVENT
DTSTART;TZID=UTC:20260224T183000
DTEND;TZID=UTC:20260224T200000
DTSTAMP:20260425T002508
CREATED:20260129T100054Z
LAST-MODIFIED:20260129T105410Z
UID:1897-1771957800-1771963200@pistoiacapitaledellibro2026.it
SUMMARY:The English Book Club
DESCRIPTION:nuovo appuntamento del gruppo di lettura in lingua inglese\,\na partire del libroscelto in occasione dell’incontro di gennaio
URL:https://pistoiacapitaledellibro2026.it/event/the-english-book-club/
LOCATION:Libreria Lo Spazio\, via Curtatone e Montanara\, 20\, Pistoia\, italy\, 51100
CATEGORIES:Letture
ATTACH;FMTTYPE=image/jpeg:https://pistoiacapitaledellibro2026.it/wp-content/uploads/2025/12/enlgish-boo-clunb.jpeg
END:VEVENT
BEGIN:VEVENT
DTSTART;TZID=Europe/Rome:20260224T170000
DTEND;TZID=Europe/Rome:20260224T190000
DTSTAMP:20260425T002508
CREATED:20260216T165401Z
LAST-MODIFIED:20260216T165401Z
UID:2682-1771952400-1771959600@pistoiacapitaledellibro2026.it
SUMMARY:Come valorizzare la propria creatività su Pinterest
DESCRIPTION:corso gratuito in 2 lezioni che offre ai partecipanti la possibilità di scoprire e sfruttare le funzionalità del social network Pinterest. Il corso è rivolto agli adulti residenti nella provincia di Pistoia\, realizzato nell’ambito del progetto “Giovani Adulti In-Formati” finanziato da Regione Toscana a valere sulle risorse del Fondo Sociale Europeo \nlezione successiva: 31 marzo 2026 \niscrizione obbligatoria: fseredop.comune.pistoia.it
URL:https://pistoiacapitaledellibro2026.it/event/come-valorizzare-la-propria-creativita-su-pinterest/
LOCATION:Biblioteca San Giorgio\, Via Sandro Pertini\, 340\, Pistoia\, PT\, 51100\, Italy
CATEGORIES:Corsi
ATTACH;FMTTYPE=image/jpeg:https://pistoiacapitaledellibro2026.it/wp-content/uploads/2025/12/IMG_DIG.jpg
END:VEVENT
BEGIN:VEVENT
DTSTART;TZID=Europe/Rome:20260224T170000
DTEND;TZID=Europe/Rome:20260224T190000
DTSTAMP:20260425T002508
CREATED:20260212T082520Z
LAST-MODIFIED:20260217T080331Z
UID:2134-1771952400-1771959600@pistoiacapitaledellibro2026.it
SUMMARY:Cambiamenti: premio al pensiero innovativo delle nuove imprese italiane
DESCRIPTION:Finale Territoriale CNA Toscana Centro – IX edizione\na cura di CNA Toscana Centro\, Giovani Imprenditori Toscana Centro \nin collaborazione con Pistoia Essere Impresa e di Ikigai\, il programma di accelerazione imprenditoriale e professionale di Fondazione MPS \nL’evento rappresenta un momento importante per il tessuto imprenditoriale locale: le imprese finaliste si confronteranno per conquistare l’accesso alla fase regionale del Premio\, portando sul palco idee\, progetti e modelli di business innovativi. Una giuria di esperte/i le valuterà assegnando importanti premi e per tutte le imprese sarà un momento di grande visibilità. \nLa serata sarà anche un’occasione di incontro e networking per imprenditori\, professionisti\, istituzioni e cittadini interessati a conoscere da vicino le realtà emergenti del territorio e le loro storie di crescita. \ninfo su: toscanacentro.cna.it \n 
URL:https://pistoiacapitaledellibro2026.it/event/cambiamenti-premio-al-pensiero-innovativo-delle-nuove-imprese-italiane/
LOCATION:Biblioteca San Giorgio\, Via Sandro Pertini\, 340\, Pistoia\, PT\, 51100\, Italy
CATEGORIES:Incontri
ATTACH;FMTTYPE=image/webp:https://pistoiacapitaledellibro2026.it/wp-content/uploads/2026/02/Finale-Premio-Cambiamenti-2026-DEF.webp
END:VEVENT
BEGIN:VEVENT
DTSTART;TZID=UTC:20260224T170000
DTEND;TZID=UTC:20260224T190000
DTSTAMP:20260425T002508
CREATED:20260129T095907Z
LAST-MODIFIED:20260211T123845Z
UID:1895-1771952400-1771959600@pistoiacapitaledellibro2026.it
SUMMARY:L’ultima lettera da Cuba
DESCRIPTION:conversazione sul libro di Enrico Tozzi (AliRibelli\, 2025)\nincontro del Gruppo di lettura MPS \n(partecipazione riservata ai soli membri del Gruppo)
URL:https://pistoiacapitaledellibro2026.it/event/lultima-lettera-da-cuba/
LOCATION:Biblioteca San Giorgio\, Via Sandro Pertini\, 340\, Pistoia\, PT\, 51100\, Italy
CATEGORIES:Presentazioni
ATTACH;FMTTYPE=image/webp:https://pistoiacapitaledellibro2026.it/wp-content/uploads/2025/12/Pistoia26-5.webp
END:VEVENT
BEGIN:VEVENT
DTSTART;TZID=UTC:20260224T170000
DTEND;TZID=UTC:20260224T183000
DTSTAMP:20260425T002508
CREATED:20260129T095805Z
LAST-MODIFIED:20260211T123511Z
UID:1893-1771952400-1771957800@pistoiacapitaledellibro2026.it
SUMMARY:Ascoltami: come si racconta una storia
DESCRIPTION:percorso rivolto agli adulti e alla loro parte bambina\,\nper imparare come si cattura l’attenzione dei bambini\,\ncome si usano la voce e il gesto\, e per scoprire il proprio stile narrativo \na cura dei Servizi Educativi del Comune di Pistoia\naccesso gratuito su iscrizione:\nareagialla@comune.pistoia.it\ntel. 0573 32640 (in orario 9.30-13.00)
URL:https://pistoiacapitaledellibro2026.it/event/ascoltami-come-si-racconta-una-storia-2/
LOCATION:Area Bambini Gialla\, via degli Armeni 5/a\, Pistoia\, Pistoia\, 51100\, Italy
CATEGORIES:Corsi
ATTACH;FMTTYPE=image/png:https://pistoiacapitaledellibro2026.it/wp-content/uploads/2026/01/ascoltami.png
END:VEVENT
BEGIN:VEVENT
DTSTART;TZID=UTC:20260224T170000
DTEND;TZID=UTC:20260224T183000
DTSTAMP:20260425T002508
CREATED:20260129T095337Z
LAST-MODIFIED:20260212T094428Z
UID:1891-1771952400-1771957800@pistoiacapitaledellibro2026.it
SUMMARY:La Storia delle Cinque
DESCRIPTION:una volta al mese\, una lettura da portare e trasportare in paese\,\nper recuperare il valore culturale del racconto orale.\nPunto di ritrovo: la scuola dell’infanzia \na cura dei Servizi Educativi del Comune di Pistoia\naccesso gratuito
URL:https://pistoiacapitaledellibro2026.it/event/la-storia-delle-cinque/
LOCATION:Scuola dell’infanzia La Favola\, via di Baggio nuova 15\, Villa di Baggio\, Pistoia\, 51100\, Italy
CATEGORIES:Letture
ATTACH;FMTTYPE=image/webp:https://pistoiacapitaledellibro2026.it/wp-content/uploads/2025/12/patto-lettura-2.webp
END:VEVENT
BEGIN:VEVENT
DTSTART;TZID=UTC:20260224T163000
DTEND;TZID=UTC:20260224T183000
DTSTAMP:20260425T002508
CREATED:20260129T095231Z
LAST-MODIFIED:20260129T095231Z
UID:1889-1771950600-1771957800@pistoiacapitaledellibro2026.it
SUMMARY:Orsi a Berlino
DESCRIPTION:proiezione di un film premiato con l’Orso d’oro al Festival del Cinema di Berlino \nprogramma di dettaglio in biblioteca\naccesso gratuito fino ad esaurimento dei posti
URL:https://pistoiacapitaledellibro2026.it/event/orsi-a-berlino-4/
LOCATION:Biblioteca San Giorgio\, Via Sandro Pertini\, 340\, Pistoia\, PT\, 51100\, Italy
CATEGORIES:Cinema
ATTACH;FMTTYPE=image/webp:https://pistoiacapitaledellibro2026.it/wp-content/uploads/2026/01/Festival-del-cinema-di-Berlino.webp
END:VEVENT
END:VCALENDAR